BEGIN:VCALENDAR
VERSION:2.0
PRODID:-//Landes Verband Wien Bowling - ECPv6.15.20//NONSGML v1.0//EN
CALSCALE:GREGORIAN
METHOD:PUBLISH
X-WR-CALNAME:Landes Verband Wien Bowling
X-ORIGINAL-URL:https://bowling-wien.at
X-WR-CALDESC:Veranstaltungen für Landes Verband Wien Bowling
REFRESH-INTERVAL;VALUE=DURATION:PT1H
X-Robots-Tag:noindex
X-PUBLISHED-TTL:PT1H
BEGIN:VTIMEZONE
TZID:Europe/Vienna
BEGIN:DAYLIGHT
TZOFFSETFROM:+0100
TZOFFSETTO:+0200
TZNAME:CEST
DTSTART:20250330T010000
END:DAYLIGHT
BEGIN:STANDARD
TZOFFSETFROM:+0200
TZOFFSETTO:+0100
TZNAME:CET
DTSTART:20251026T010000
END:STANDARD
BEGIN:DAYLIGHT
TZOFFSETFROM:+0100
TZOFFSETTO:+0200
TZNAME:CEST
DTSTART:20260329T010000
END:DAYLIGHT
BEGIN:STANDARD
TZOFFSETFROM:+0200
TZOFFSETTO:+0100
TZNAME:CET
DTSTART:20261025T010000
END:STANDARD
BEGIN:DAYLIGHT
TZOFFSETFROM:+0100
TZOFFSETTO:+0200
TZNAME:CEST
DTSTART:20270328T010000
END:DAYLIGHT
BEGIN:STANDARD
TZOFFSETFROM:+0200
TZOFFSETTO:+0100
TZNAME:CET
DTSTART:20271031T010000
END:STANDARD
END:VTIMEZONE
BEGIN:VEVENT
DTSTART;VALUE=DATE:20260426
DTEND;VALUE=DATE:20260427
DTSTAMP:20260424T113947
CREATED:20250824T092441Z
LAST-MODIFIED:20250824T095512Z
UID:10002437-1777161600-1777247999@bowling-wien.at
SUMMARY:RL Einzel Runde 1 Tag 1
DESCRIPTION:1. Runde
URL:https://bowling-wien.at/events/kategorie/allgemeine-klasse/rl-einzel/
LOCATION:Plus Bowling Center\, Beheimgasse 5-7\, Wien\, Wien\, 1170\, Österreich
CATEGORIES:RL Einzel
ORGANIZER;CN="Landesverband Wien Bowling":MAILTO:sekretariat@bowling-wien.at
END:VEVENT
BEGIN:VEVENT
DTSTART;VALUE=DATE:20260426
DTEND;VALUE=DATE:20260427
DTSTAMP:20260424T113947
CREATED:20250824T092453Z
LAST-MODIFIED:20250824T095512Z
UID:10002443-1777161600-1777247999@bowling-wien.at
SUMMARY:RL Doppel Runde 1 Tag 1
DESCRIPTION:1. Runde
URL:https://bowling-wien.at/events/kategorie/allgemeine-klasse/rl-doppel/
LOCATION:Plus Bowling Center\, Beheimgasse 5-7\, Wien\, Wien\, 1170\, Österreich
CATEGORIES:RL Doppel
ORGANIZER;CN="Landesverband Wien Bowling":MAILTO:sekretariat@bowling-wien.at
END:VEVENT
BEGIN:VEVENT
DTSTART;VALUE=DATE:20260427
DTEND;VALUE=DATE:20260428
DTSTAMP:20260424T113947
CREATED:20250824T093148Z
LAST-MODIFIED:20250824T111621Z
UID:10002501-1777248000-1777334399@bowling-wien.at
SUMMARY:WrM Senioren Doppel Herren 70+
DESCRIPTION:Finale
URL:https://bowling-wien.at/events/kategorie/senioren/
LOCATION:Plus Bowling Center\, Beheimgasse 5-7\, Wien\, Wien\, 1170\, Österreich
CATEGORIES:Senioren,WrM Doppel (Senioren)
ORGANIZER;CN="Landesverband Wien Bowling":MAILTO:sekretariat@bowling-wien.at
END:VEVENT
BEGIN:VEVENT
DTSTART;TZID=Europe/Vienna:20260427T170000
DTEND;TZID=Europe/Vienna:20260427T170000
DTSTAMP:20260424T113947
CREATED:20250824T093148Z
LAST-MODIFIED:20250824T111632Z
UID:10002500-1777309200-1777309200@bowling-wien.at
SUMMARY:WrM Senioren Doppel Herren 50+ / 60+
DESCRIPTION:Finale
URL:https://bowling-wien.at/events/kategorie/senioren/
LOCATION:Sportcenter Cumberland\, Cumberlandstraße 102\, Wien\, Wien\, 1140\, Österreich
CATEGORIES:Senioren,WrM Doppel (Senioren)
ORGANIZER;CN="Landesverband Wien Bowling":MAILTO:sekretariat@bowling-wien.at
END:VEVENT
BEGIN:VEVENT
DTSTART;TZID=Europe/Vienna:20260427T183000
DTEND;TZID=Europe/Vienna:20260427T183000
DTSTAMP:20260424T113947
CREATED:20250824T093148Z
LAST-MODIFIED:20250824T111641Z
UID:10002502-1777314600-1777314600@bowling-wien.at
SUMMARY:WrM Senioren Doppel Damen 50+ / 60+
DESCRIPTION:Finale
URL:https://bowling-wien.at/events/kategorie/senioren/
LOCATION:Plus Bowling Center\, Beheimgasse 5-7\, Wien\, Wien\, 1170\, Österreich
CATEGORIES:Senioren,WrM Doppel (Senioren)
ORGANIZER;CN="Landesverband Wien Bowling":MAILTO:sekretariat@bowling-wien.at
END:VEVENT
BEGIN:VEVENT
DTSTART;VALUE=DATE:20260429
DTEND;VALUE=DATE:20260430
DTSTAMP:20260424T113947
CREATED:20250824T091030Z
LAST-MODIFIED:20250824T095512Z
UID:10002284-1777420800-1777507199@bowling-wien.at
SUMMARY:Nenntag LVWB Ranglisten Mixed
DESCRIPTION:
URL:https://bowling-wien.at/events/kategorie/allgemeine-klasse/rl-mixed/
CATEGORIES:RL Mixed
END:VEVENT
BEGIN:VEVENT
DTSTART;VALUE=DATE:20260429
DTEND;VALUE=DATE:20260430
DTSTAMP:20260424T113947
CREATED:20250824T092441Z
LAST-MODIFIED:20250824T095512Z
UID:10002438-1777420800-1777507199@bowling-wien.at
SUMMARY:RL Einzel Runde 1 Tag 2
DESCRIPTION:1. Runde
URL:https://bowling-wien.at/events/kategorie/allgemeine-klasse/rl-einzel/
LOCATION:Sportcenter Cumberland\, Cumberlandstraße 102\, Wien\, Wien\, 1140\, Österreich
CATEGORIES:RL Einzel
ORGANIZER;CN="Landesverband Wien Bowling":MAILTO:sekretariat@bowling-wien.at
END:VEVENT
BEGIN:VEVENT
DTSTART;VALUE=DATE:20260429
DTEND;VALUE=DATE:20260430
DTSTAMP:20260424T113947
CREATED:20250824T092457Z
LAST-MODIFIED:20250824T095512Z
UID:10002444-1777420800-1777507199@bowling-wien.at
SUMMARY:RL Doppel Runde 1 Tag 2
DESCRIPTION:1. Runde
URL:https://bowling-wien.at/events/kategorie/allgemeine-klasse/rl-doppel/
LOCATION:Sportcenter Cumberland\, Cumberlandstraße 102\, Wien\, Wien\, 1140\, Österreich
CATEGORIES:RL Doppel
ORGANIZER;CN="Landesverband Wien Bowling":MAILTO:sekretariat@bowling-wien.at
END:VEVENT
END:VCALENDAR