BEGIN:VCALENDAR
VERSION:2.0
PRODID:-//Landes Verband Wien Bowling - ECPv6.15.20//NONSGML v1.0//EN
CALSCALE:GREGORIAN
METHOD:PUBLISH
X-WR-CALNAME:Landes Verband Wien Bowling
X-ORIGINAL-URL:https://bowling-wien.at
X-WR-CALDESC:Veranstaltungen für Landes Verband Wien Bowling
REFRESH-INTERVAL;VALUE=DURATION:PT1H
X-Robots-Tag:noindex
X-PUBLISHED-TTL:PT1H
BEGIN:VTIMEZONE
TZID:Europe/Vienna
BEGIN:DAYLIGHT
TZOFFSETFROM:+0100
TZOFFSETTO:+0200
TZNAME:CEST
DTSTART:20230326T010000
END:DAYLIGHT
BEGIN:STANDARD
TZOFFSETFROM:+0200
TZOFFSETTO:+0100
TZNAME:CET
DTSTART:20231029T010000
END:STANDARD
BEGIN:DAYLIGHT
TZOFFSETFROM:+0100
TZOFFSETTO:+0200
TZNAME:CEST
DTSTART:20240331T010000
END:DAYLIGHT
BEGIN:STANDARD
TZOFFSETFROM:+0200
TZOFFSETTO:+0100
TZNAME:CET
DTSTART:20241027T010000
END:STANDARD
BEGIN:DAYLIGHT
TZOFFSETFROM:+0100
TZOFFSETTO:+0200
TZNAME:CEST
DTSTART:20250330T010000
END:DAYLIGHT
BEGIN:STANDARD
TZOFFSETFROM:+0200
TZOFFSETTO:+0100
TZNAME:CET
DTSTART:20251026T010000
END:STANDARD
END:VTIMEZONE
BEGIN:VEVENT
DTSTART;VALUE=DATE:20240403
DTEND;VALUE=DATE:20240404
DTSTAMP:20260426T022453
CREATED:20230820T110142Z
LAST-MODIFIED:20230820T111047Z
UID:10002015-1712102400-1712188799@bowling-wien.at
SUMMARY:Sekretariat
DESCRIPTION:
URL:https://bowling-wien.at/events/kategorie/sekretariat/
CATEGORIES:Sekretariat
ORGANIZER;CN="Landesverband Wien Bowling":MAILTO:sekretariat@bowling-wien.at
END:VEVENT
BEGIN:VEVENT
DTSTART;VALUE=DATE:20240406
DTEND;VALUE=DATE:20240407
DTSTAMP:20260426T022453
CREATED:20230820T105607Z
LAST-MODIFIED:20231108T191631Z
UID:10001971-1712361600-1712447999@bowling-wien.at
SUMMARY:ÖM Mixed
DESCRIPTION:Semifinale
URL:https://bowling-wien.at/events/kategorie/oeskb/
CATEGORIES:ÖSKB
END:VEVENT
BEGIN:VEVENT
DTSTART;VALUE=DATE:20240407
DTEND;VALUE=DATE:20240408
DTSTAMP:20260426T022453
CREATED:20230820T105608Z
LAST-MODIFIED:20231108T191624Z
UID:10001972-1712448000-1712534399@bowling-wien.at
SUMMARY:ÖM Mixed
DESCRIPTION:Finale
URL:https://bowling-wien.at/events/kategorie/oeskb/
CATEGORIES:ÖSKB
END:VEVENT
BEGIN:VEVENT
DTSTART;TZID=Europe/Vienna:20240408T170000
DTEND;TZID=Europe/Vienna:20240408T170000
DTSTAMP:20260426T022453
CREATED:20230820T110043Z
LAST-MODIFIED:20230820T111046Z
UID:10001997-1712595600-1712595600@bowling-wien.at
SUMMARY:WM Senioren Mixed Runde 1 Tag 1
DESCRIPTION:1. Runde
URL:https://bowling-wien.at/events/kategorie/senioren/
LOCATION:Plus Bowling Center\, Beheimgasse 5-7\, Wien\, Wien\, 1170\, Österreich
CATEGORIES:Senioren
ORGANIZER;CN="Landesverband Wien Bowling":MAILTO:sekretariat@bowling-wien.at
END:VEVENT
BEGIN:VEVENT
DTSTART;TZID=Europe/Vienna:20240409T190000
DTEND;TZID=Europe/Vienna:20240409T190000
DTSTAMP:20260426T022453
CREATED:20230820T104903Z
LAST-MODIFIED:20230820T111045Z
UID:10001936-1712689200-1712689200@bowling-wien.at
SUMMARY:4er - 1KL
DESCRIPTION:Runde 9+10
URL:https://bowling-wien.at/events/kategorie/allgemeine-klasse/4er-6er/
LOCATION:Plus Bowling Center\, Beheimgasse 5-7\, Wien\, Wien\, 1170\, Österreich
CATEGORIES:Head to Head (4er/6er)
ORGANIZER;CN="Landesverband Wien Bowling":MAILTO:sekretariat@bowling-wien.at
END:VEVENT
BEGIN:VEVENT
DTSTART;TZID=Europe/Vienna:20240409T190000
DTEND;TZID=Europe/Vienna:20240409T190000
DTSTAMP:20260426T022453
CREATED:20230820T104904Z
LAST-MODIFIED:20230820T111045Z
UID:10001937-1712689200-1712689200@bowling-wien.at
SUMMARY:4er - 2KL
DESCRIPTION:Runde 9+10
URL:https://bowling-wien.at/events/kategorie/allgemeine-klasse/4er-6er/
LOCATION:Plus Bowling Center\, Beheimgasse 5-7\, Wien\, Wien\, 1170\, Österreich
CATEGORIES:Head to Head (4er/6er)
ORGANIZER;CN="Landesverband Wien Bowling":MAILTO:sekretariat@bowling-wien.at
END:VEVENT
BEGIN:VEVENT
DTSTART;TZID=Europe/Vienna:20240410T170000
DTEND;TZID=Europe/Vienna:20240410T170000
DTSTAMP:20260426T022453
CREATED:20230820T110043Z
LAST-MODIFIED:20230820T111045Z
UID:10001998-1712768400-1712768400@bowling-wien.at
SUMMARY:WM Senioren Mixed Runde 1 Tag 2
DESCRIPTION:1. Runde
URL:https://bowling-wien.at/events/kategorie/senioren/
LOCATION:Sportcenter Cumberland\, Cumberlandstraße 102\, Wien\, Wien\, 1140\, Österreich
CATEGORIES:Senioren
ORGANIZER;CN="Landesverband Wien Bowling":MAILTO:sekretariat@bowling-wien.at
END:VEVENT
BEGIN:VEVENT
DTSTART;TZID=Europe/Vienna:20240414T100000
DTEND;TZID=Europe/Vienna:20240414T100000
DTSTAMP:20260426T022453
CREATED:20230820T101237Z
LAST-MODIFIED:20230820T111044Z
UID:10001861-1713088800-1713088800@bowling-wien.at
SUMMARY:Trio - WLD
DESCRIPTION:7. Runde
URL:https://bowling-wien.at/events/kategorie/allgemeine-klasse/trio-3er/
LOCATION:Plus Bowling Center\, Beheimgasse 5-7\, Wien\, Wien\, 1170\, Österreich
CATEGORIES:Trio (3er)
ORGANIZER;CN="Landesverband Wien Bowling":MAILTO:sekretariat@bowling-wien.at
END:VEVENT
BEGIN:VEVENT
DTSTART;TZID=Europe/Vienna:20240414T100000
DTEND;TZID=Europe/Vienna:20240414T100000
DTSTAMP:20260426T022453
CREATED:20230820T101237Z
LAST-MODIFIED:20230820T111044Z
UID:10001862-1713088800-1713088800@bowling-wien.at
SUMMARY:Trio - WLH
DESCRIPTION:7. Runde
URL:https://bowling-wien.at/events/kategorie/allgemeine-klasse/trio-3er/
LOCATION:Plus Bowling Center\, Beheimgasse 5-7\, Wien\, Wien\, 1170\, Österreich
CATEGORIES:Trio (3er)
ORGANIZER;CN="Landesverband Wien Bowling":MAILTO:sekretariat@bowling-wien.at
END:VEVENT
BEGIN:VEVENT
DTSTART;TZID=Europe/Vienna:20240414T100000
DTEND;TZID=Europe/Vienna:20240414T100000
DTSTAMP:20260426T022453
CREATED:20230820T101238Z
LAST-MODIFIED:20230820T111044Z
UID:10001863-1713088800-1713088800@bowling-wien.at
SUMMARY:Trio - H2LL
DESCRIPTION:7. Runde
URL:https://bowling-wien.at/events/kategorie/allgemeine-klasse/trio-3er/
LOCATION:Sportcenter Cumberland\, Cumberlandstraße 102\, Wien\, Wien\, 1140\, Österreich
CATEGORIES:Trio (3er)
ORGANIZER;CN="Landesverband Wien Bowling":MAILTO:sekretariat@bowling-wien.at
END:VEVENT
BEGIN:VEVENT
DTSTART;TZID=Europe/Vienna:20240415T170000
DTEND;TZID=Europe/Vienna:20240415T170000
DTSTAMP:20260426T022453
CREATED:20230820T110015Z
LAST-MODIFIED:20230820T111044Z
UID:10001986-1713200400-1713200400@bowling-wien.at
SUMMARY:WM Senioren Einzel Runde 2 Tag 1
DESCRIPTION:2. Runde
URL:https://bowling-wien.at/events/kategorie/senioren/
LOCATION:Plus Bowling Center\, Beheimgasse 5-7\, Wien\, Wien\, 1170\, Österreich
CATEGORIES:Senioren
ORGANIZER;CN="Landesverband Wien Bowling":MAILTO:sekretariat@bowling-wien.at
END:VEVENT
BEGIN:VEVENT
DTSTART;TZID=Europe/Vienna:20240415T170000
DTEND;TZID=Europe/Vienna:20240415T170000
DTSTAMP:20260426T022453
CREATED:20230820T110028Z
LAST-MODIFIED:20230820T111043Z
UID:10001992-1713200400-1713200400@bowling-wien.at
SUMMARY:WM Senioren Doppel Runde 2 Tag 1
DESCRIPTION:2. Runde
URL:https://bowling-wien.at/events/kategorie/senioren/
LOCATION:Plus Bowling Center\, Beheimgasse 5-7\, Wien\, Wien\, 1170\, Österreich
CATEGORIES:Senioren
ORGANIZER;CN="Landesverband Wien Bowling":MAILTO:sekretariat@bowling-wien.at
END:VEVENT
BEGIN:VEVENT
DTSTART;VALUE=DATE:20240417
DTEND;VALUE=DATE:20240418
DTSTAMP:20260426T022453
CREATED:20230820T110142Z
LAST-MODIFIED:20230820T111043Z
UID:10002016-1713312000-1713398399@bowling-wien.at
SUMMARY:Sekretariat
DESCRIPTION:
URL:https://bowling-wien.at/events/kategorie/sekretariat/
CATEGORIES:Sekretariat
ORGANIZER;CN="Landesverband Wien Bowling":MAILTO:sekretariat@bowling-wien.at
END:VEVENT
BEGIN:VEVENT
DTSTART;TZID=Europe/Vienna:20240417T170000
DTEND;TZID=Europe/Vienna:20240417T170000
DTSTAMP:20260426T022453
CREATED:20230820T110015Z
LAST-MODIFIED:20230820T111043Z
UID:10001987-1713373200-1713373200@bowling-wien.at
SUMMARY:WM Senioren Einzel Runde 2 Tag 2
DESCRIPTION:2. Runde
URL:https://bowling-wien.at/events/kategorie/senioren/
LOCATION:Sportcenter Cumberland\, Cumberlandstraße 102\, Wien\, Wien\, 1140\, Österreich
CATEGORIES:Senioren
ORGANIZER;CN="Landesverband Wien Bowling":MAILTO:sekretariat@bowling-wien.at
END:VEVENT
BEGIN:VEVENT
DTSTART;TZID=Europe/Vienna:20240417T170000
DTEND;TZID=Europe/Vienna:20240417T170000
DTSTAMP:20260426T022453
CREATED:20230820T110029Z
LAST-MODIFIED:20230820T111042Z
UID:10001993-1713373200-1713373200@bowling-wien.at
SUMMARY:WM Senioren Doppel Runde 2 Tag 2
DESCRIPTION:2. Runde
URL:https://bowling-wien.at/events/kategorie/senioren/
LOCATION:Sportcenter Cumberland\, Cumberlandstraße 102\, Wien\, Wien\, 1140\, Österreich
CATEGORIES:Senioren
ORGANIZER;CN="Landesverband Wien Bowling":MAILTO:sekretariat@bowling-wien.at
END:VEVENT
BEGIN:VEVENT
DTSTART;TZID=Europe/Vienna:20240420T090000
DTEND;TZID=Europe/Vienna:20240420T090000
DTSTAMP:20260426T022453
CREATED:20230820T110042Z
LAST-MODIFIED:20230820T111042Z
UID:10001996-1713603600-1713603600@bowling-wien.at
SUMMARY:WM Senioren Doppel Damen A+B
DESCRIPTION:Finale
URL:https://bowling-wien.at/events/kategorie/senioren/
LOCATION:Plus Bowling Center\, Beheimgasse 5-7\, Wien\, Wien\, 1170\, Österreich
CATEGORIES:Senioren
ORGANIZER;CN="Landesverband Wien Bowling":MAILTO:sekretariat@bowling-wien.at
END:VEVENT
BEGIN:VEVENT
DTSTART;TZID=Europe/Vienna:20240420T090000
DTEND;TZID=Europe/Vienna:20240420T090000
DTSTAMP:20260426T022453
CREATED:20230820T110042Z
LAST-MODIFIED:20230820T111042Z
UID:10001995-1713603600-1713603600@bowling-wien.at
SUMMARY:WM Senioren Doppel Herren C
DESCRIPTION:Finale
URL:https://bowling-wien.at/events/kategorie/senioren/
LOCATION:Plus Bowling Center\, Beheimgasse 5-7\, Wien\, Wien\, 1170\, Österreich
CATEGORIES:Senioren
ORGANIZER;CN="Landesverband Wien Bowling":MAILTO:sekretariat@bowling-wien.at
END:VEVENT
BEGIN:VEVENT
DTSTART;TZID=Europe/Vienna:20240420T110000
DTEND;TZID=Europe/Vienna:20240420T110000
DTSTAMP:20260426T022453
CREATED:20230820T110041Z
LAST-MODIFIED:20230820T111041Z
UID:10001994-1713610800-1713610800@bowling-wien.at
SUMMARY:WM Senioren Doppel Herren A+B
DESCRIPTION:Finale
URL:https://bowling-wien.at/events/kategorie/senioren/
LOCATION:Sportcenter Cumberland\, Cumberlandstraße 102\, Wien\, Wien\, 1140\, Österreich
CATEGORIES:Senioren
ORGANIZER;CN="Landesverband Wien Bowling":MAILTO:sekretariat@bowling-wien.at
END:VEVENT
BEGIN:VEVENT
DTSTART;TZID=Europe/Vienna:20240421T100000
DTEND;TZID=Europe/Vienna:20240421T100000
DTSTAMP:20260426T022453
CREATED:20230820T104400Z
LAST-MODIFIED:20230820T111041Z
UID:10001924-1713693600-1713693600@bowling-wien.at
SUMMARY:Team - WLD
DESCRIPTION:6. Runde
URL:https://bowling-wien.at/events/kategorie/allgemeine-klasse/team-4er-5er/
LOCATION:Plus Bowling Center\, Beheimgasse 5-7\, Wien\, Wien\, 1170\, Österreich
CATEGORIES:Team (4er/5er)
ORGANIZER;CN="Landesverband Wien Bowling":MAILTO:sekretariat@bowling-wien.at
END:VEVENT
BEGIN:VEVENT
DTSTART;TZID=Europe/Vienna:20240421T100000
DTEND;TZID=Europe/Vienna:20240421T100000
DTSTAMP:20260426T022453
CREATED:20230820T104540Z
LAST-MODIFIED:20230820T111041Z
UID:10001925-1713693600-1713693600@bowling-wien.at
SUMMARY:Team - WLH
DESCRIPTION:7. Runde
URL:https://bowling-wien.at/events/kategorie/allgemeine-klasse/team-4er-5er/
LOCATION:Plus Bowling Center\, Beheimgasse 5-7\, Wien\, Wien\, 1170\, Österreich
CATEGORIES:Team (4er/5er)
ORGANIZER;CN="Landesverband Wien Bowling":MAILTO:sekretariat@bowling-wien.at
END:VEVENT
BEGIN:VEVENT
DTSTART;TZID=Europe/Vienna:20240421T100000
DTEND;TZID=Europe/Vienna:20240421T100000
DTSTAMP:20260426T022453
CREATED:20230820T104540Z
LAST-MODIFIED:20230820T111041Z
UID:10001926-1713693600-1713693600@bowling-wien.at
SUMMARY:Team - H2LL
DESCRIPTION:7. Runde – H2LL spielt 6 Spiele!
URL:https://bowling-wien.at/events/kategorie/allgemeine-klasse/team-4er-5er/
LOCATION:Sportcenter Cumberland\, Cumberlandstraße 102\, Wien\, Wien\, 1140\, Österreich
CATEGORIES:Team (4er/5er)
ORGANIZER;CN="Landesverband Wien Bowling":MAILTO:sekretariat@bowling-wien.at
END:VEVENT
BEGIN:VEVENT
DTSTART;TZID=Europe/Vienna:20240422T170000
DTEND;TZID=Europe/Vienna:20240422T170000
DTSTAMP:20260426T022453
CREATED:20230820T110056Z
LAST-MODIFIED:20230820T111040Z
UID:10001999-1713805200-1713805200@bowling-wien.at
SUMMARY:WM Senioren Mixed Runde 2 Tag 1
DESCRIPTION:2. Runde
URL:https://bowling-wien.at/events/kategorie/senioren/
LOCATION:Sportcenter Cumberland\, Cumberlandstraße 102\, Wien\, Wien\, 1140\, Österreich
CATEGORIES:Senioren
ORGANIZER;CN="Landesverband Wien Bowling":MAILTO:sekretariat@bowling-wien.at
END:VEVENT
BEGIN:VEVENT
DTSTART;TZID=Europe/Vienna:20240424T170000
DTEND;TZID=Europe/Vienna:20240424T170000
DTSTAMP:20260426T022453
CREATED:20230820T110057Z
LAST-MODIFIED:20230820T111040Z
UID:10002000-1713978000-1713978000@bowling-wien.at
SUMMARY:WM Senioren Mixed Runde 2 Tag 2
DESCRIPTION:2. Runde
URL:https://bowling-wien.at/events/kategorie/senioren/
LOCATION:Plus Bowling Center\, Beheimgasse 5-7\, Wien\, Wien\, 1170\, Österreich
CATEGORIES:Senioren
ORGANIZER;CN="Landesverband Wien Bowling":MAILTO:sekretariat@bowling-wien.at
END:VEVENT
BEGIN:VEVENT
DTSTART;VALUE=DATE:20240427
DTEND;VALUE=DATE:20240429
DTSTAMP:20260426T022453
CREATED:20230820T101238Z
LAST-MODIFIED:20230820T111040Z
UID:10001864-1714176000-1714348799@bowling-wien.at
SUMMARY:STM Trio Damen/Herren
DESCRIPTION:Semifinale / Finale
URL:https://bowling-wien.at/events/kategorie/oeskb/
CATEGORIES:ÖSKB
END:VEVENT
BEGIN:VEVENT
DTSTART;TZID=Europe/Vienna:20240429T190000
DTEND;TZID=Europe/Vienna:20240429T190000
DTSTAMP:20260426T022453
CREATED:20230820T103623Z
LAST-MODIFIED:20230820T111039Z
UID:10001889-1714417200-1714417200@bowling-wien.at
SUMMARY:Team - DA1
DESCRIPTION:9. Runde
URL:https://bowling-wien.at/events/kategorie/allgemeine-klasse/team-4er-5er/
LOCATION:Plus Bowling Center\, Beheimgasse 5-7\, Wien\, Wien\, 1170\, Österreich
CATEGORIES:Team (4er/5er)
ORGANIZER;CN="Landesverband Wien Bowling":MAILTO:sekretariat@bowling-wien.at
END:VEVENT
BEGIN:VEVENT
DTSTART;TZID=Europe/Vienna:20240429T190000
DTEND;TZID=Europe/Vienna:20240429T190000
DTSTAMP:20260426T022453
CREATED:20230820T103718Z
LAST-MODIFIED:20230820T111038Z
UID:10001890-1714417200-1714417200@bowling-wien.at
SUMMARY:Team - H1
DESCRIPTION:9. Runde
URL:https://bowling-wien.at/events/kategorie/allgemeine-klasse/team-4er-5er/
LOCATION:Plus Bowling Center\, Beheimgasse 5-7\, Wien\, Wien\, 1170\, Österreich
CATEGORIES:Team (4er/5er)
ORGANIZER;CN="Landesverband Wien Bowling":MAILTO:sekretariat@bowling-wien.at
END:VEVENT
BEGIN:VEVENT
DTSTART;TZID=Europe/Vienna:20240429T190000
DTEND;TZID=Europe/Vienna:20240429T190000
DTSTAMP:20260426T022453
CREATED:20230820T103718Z
LAST-MODIFIED:20230820T111039Z
UID:10001891-1714417200-1714417200@bowling-wien.at
SUMMARY:Team - H2
DESCRIPTION:9. Runde
URL:https://bowling-wien.at/events/kategorie/allgemeine-klasse/team-4er-5er/
LOCATION:Sportcenter Cumberland\, Cumberlandstraße 102\, Wien\, Wien\, 1140\, Österreich
CATEGORIES:Team (4er/5er)
ORGANIZER;CN="Landesverband Wien Bowling":MAILTO:sekretariat@bowling-wien.at
END:VEVENT
END:VCALENDAR