BEGIN:VCALENDAR
VERSION:2.0
PRODID:-//Landes Verband Wien Bowling - ECPv6.15.20//NONSGML v1.0//EN
CALSCALE:GREGORIAN
METHOD:PUBLISH
X-WR-CALNAME:Landes Verband Wien Bowling
X-ORIGINAL-URL:https://bowling-wien.at
X-WR-CALDESC:Veranstaltungen für Landes Verband Wien Bowling
REFRESH-INTERVAL;VALUE=DURATION:PT1H
X-Robots-Tag:noindex
X-PUBLISHED-TTL:PT1H
BEGIN:VTIMEZONE
TZID:Europe/Vienna
BEGIN:DAYLIGHT
TZOFFSETFROM:+0100
TZOFFSETTO:+0200
TZNAME:CEST
DTSTART:20230326T010000
END:DAYLIGHT
BEGIN:STANDARD
TZOFFSETFROM:+0200
TZOFFSETTO:+0100
TZNAME:CET
DTSTART:20231029T010000
END:STANDARD
BEGIN:DAYLIGHT
TZOFFSETFROM:+0100
TZOFFSETTO:+0200
TZNAME:CEST
DTSTART:20240331T010000
END:DAYLIGHT
BEGIN:STANDARD
TZOFFSETFROM:+0200
TZOFFSETTO:+0100
TZNAME:CET
DTSTART:20241027T010000
END:STANDARD
BEGIN:DAYLIGHT
TZOFFSETFROM:+0100
TZOFFSETTO:+0200
TZNAME:CEST
DTSTART:20250330T010000
END:DAYLIGHT
BEGIN:STANDARD
TZOFFSETFROM:+0200
TZOFFSETTO:+0100
TZNAME:CET
DTSTART:20251026T010000
END:STANDARD
END:VTIMEZONE
BEGIN:VEVENT
DTSTART;TZID=Europe/Vienna:20241004T160000
DTEND;TZID=Europe/Vienna:20241004T160000
DTSTAMP:20260425T183911
CREATED:20240820T165445Z
LAST-MODIFIED:20240820T170414Z
UID:10002234-1728057600-1728057600@bowling-wien.at
SUMMARY:Special League
DESCRIPTION:1. Runde
URL:https://bowling-wien.at/events/kategorie/special-league/
LOCATION:Plus Bowling Center\, Beheimgasse 5-7\, Wien\, Wien\, 1170\, Österreich
CATEGORIES:Special League
ORGANIZER;CN="Landesverband Wien Bowling":MAILTO:sekretariat@bowling-wien.at
END:VEVENT
BEGIN:VEVENT
DTSTART;TZID=Europe/Vienna:20241005T110000
DTEND;TZID=Europe/Vienna:20241005T110000
DTSTAMP:20260425T183911
CREATED:20240820T164509Z
LAST-MODIFIED:20240820T170413Z
UID:10002060-1728126000-1728126000@bowling-wien.at
SUMMARY:Mixed Trio - MT1
DESCRIPTION:2. Runde – Sportunion BC Funk 1 setzt aus.
URL:https://bowling-wien.at/events/kategorie/allgemeine-klasse/mixed-trio-3er/
LOCATION:Sportcenter Cumberland\, Cumberlandstraße 102\, Wien\, Wien\, 1140\, Österreich
CATEGORIES:Mixed-Trio (3er)
ORGANIZER;CN="Landesverband Wien Bowling":MAILTO:sekretariat@bowling-wien.at
END:VEVENT
BEGIN:VEVENT
DTSTART;TZID=Europe/Vienna:20241006T100000
DTEND;TZID=Europe/Vienna:20241006T100000
DTSTAMP:20260425T183911
CREATED:20240820T164538Z
LAST-MODIFIED:20240820T170334Z
UID:10002072-1728208800-1728208800@bowling-wien.at
SUMMARY:Trio - WLD
DESCRIPTION:2. Runde
URL:https://bowling-wien.at/events/kategorie/allgemeine-klasse/trio-3er/
LOCATION:Plus Bowling Center\, Beheimgasse 5-7\, Wien\, Wien\, 1170\, Österreich
CATEGORIES:Trio (3er)
ORGANIZER;CN="Landesverband Wien Bowling":MAILTO:sekretariat@bowling-wien.at
END:VEVENT
BEGIN:VEVENT
DTSTART;TZID=Europe/Vienna:20241006T100000
DTEND;TZID=Europe/Vienna:20241006T100000
DTSTAMP:20260425T183911
CREATED:20240820T164539Z
LAST-MODIFIED:20240820T170333Z
UID:10002073-1728208800-1728208800@bowling-wien.at
SUMMARY:Trio - WLH
DESCRIPTION:2. Runde
URL:https://bowling-wien.at/events/kategorie/allgemeine-klasse/trio-3er/
LOCATION:Sportcenter Cumberland\, Cumberlandstraße 102\, Wien\, Wien\, 1140\, Österreich
CATEGORIES:Trio (3er)
ORGANIZER;CN="Landesverband Wien Bowling":MAILTO:sekretariat@bowling-wien.at
END:VEVENT
BEGIN:VEVENT
DTSTART;TZID=Europe/Vienna:20241006T100000
DTEND;TZID=Europe/Vienna:20241006T100000
DTSTAMP:20260425T183911
CREATED:20240820T164539Z
LAST-MODIFIED:20240820T170334Z
UID:10002074-1728208800-1728208800@bowling-wien.at
SUMMARY:Trio - H2LL
DESCRIPTION:2. Runde
URL:https://bowling-wien.at/events/kategorie/allgemeine-klasse/trio-3er/
LOCATION:Plus Bowling Center\, Beheimgasse 5-7\, Wien\, Wien\, 1170\, Österreich
CATEGORIES:Trio (3er)
ORGANIZER;CN="Landesverband Wien Bowling":MAILTO:sekretariat@bowling-wien.at
END:VEVENT
BEGIN:VEVENT
DTSTART;VALUE=DATE:20241007
DTEND;VALUE=DATE:20241008
DTSTAMP:20260425T183911
CREATED:20240820T165140Z
LAST-MODIFIED:20240820T170333Z
UID:10002187-1728259200-1728345599@bowling-wien.at
SUMMARY:STM Doppel Quali Runde 1 Tag 1
DESCRIPTION:1. Runde
URL:https://bowling-wien.at/events/kategorie/oeskb/
LOCATION:Plus Bowling Center\, Beheimgasse 5-7\, Wien\, Wien\, 1170\, Österreich
CATEGORIES:ÖSKB
END:VEVENT
BEGIN:VEVENT
DTSTART;VALUE=DATE:20241009
DTEND;VALUE=DATE:20241010
DTSTAMP:20260425T183911
CREATED:20240820T165140Z
LAST-MODIFIED:20240820T170333Z
UID:10002188-1728432000-1728518399@bowling-wien.at
SUMMARY:STM Doppel Quali Runde 1 Tag 2
DESCRIPTION:1. Runde
URL:https://bowling-wien.at/events/kategorie/oeskb/
LOCATION:Sportcenter Cumberland\, Cumberlandstraße 102\, Wien\, Wien\, 1140\, Österreich
CATEGORIES:ÖSKB
END:VEVENT
BEGIN:VEVENT
DTSTART;TZID=Europe/Vienna:20241009T183000
DTEND;TZID=Europe/Vienna:20241009T193000
DTSTAMP:20260425T183911
CREATED:20240830T074947Z
LAST-MODIFIED:20240830T074947Z
UID:10002254-1728498600-1728502200@bowling-wien.at
SUMMARY:Sekretariat
DESCRIPTION:
URL:https://bowling-wien.at/events/kategorie/sekretariat/
CATEGORIES:Sekretariat
END:VEVENT
BEGIN:VEVENT
DTSTART;VALUE=DATE:20241012
DTEND;VALUE=DATE:20241013
DTSTAMP:20260425T183911
CREATED:20240820T165025Z
LAST-MODIFIED:20240826T081719Z
UID:10002167-1728691200-1728777599@bowling-wien.at
SUMMARY:Ö-CUP
DESCRIPTION:
URL:https://bowling-wien.at/events/kategorie/allgemeine-klasse/cup/
CATEGORIES:Cup
END:VEVENT
BEGIN:VEVENT
DTSTART;VALUE=DATE:20241013
DTEND;VALUE=DATE:20241014
DTSTAMP:20260425T183911
CREATED:20240826T081758Z
LAST-MODIFIED:20240826T081758Z
UID:10002244-1728777600-1728863999@bowling-wien.at
SUMMARY:Ö-CUP
DESCRIPTION:
URL:https://bowling-wien.at/events/kategorie/allgemeine-klasse/cup/
CATEGORIES:Cup
END:VEVENT
BEGIN:VEVENT
DTSTART;VALUE=DATE:20241014
DTEND;VALUE=DATE:20241015
DTSTAMP:20260425T183911
CREATED:20240820T165222Z
LAST-MODIFIED:20240820T170608Z
UID:10002202-1728864000-1728950399@bowling-wien.at
SUMMARY:ÖM Senioren Einzel Runde 2 Tag 1
DESCRIPTION:2. Runde
URL:https://bowling-wien.at/events/kategorie/senioren/
LOCATION:Plus Bowling Center\, Beheimgasse 5-7\, Wien\, Wien\, 1170\, Österreich
CATEGORIES:Senioren
END:VEVENT
BEGIN:VEVENT
DTSTART;VALUE=DATE:20241014
DTEND;VALUE=DATE:20241015
DTSTAMP:20260425T183911
CREATED:20240820T165239Z
LAST-MODIFIED:20240820T170559Z
UID:10002210-1728864000-1728950399@bowling-wien.at
SUMMARY:ÖM Senioren Doppel Runde 2 Tag 1
DESCRIPTION:2. Runde
URL:https://bowling-wien.at/events/kategorie/senioren/
LOCATION:Plus Bowling Center\, Beheimgasse 5-7\, Wien\, Wien\, 1170\, Österreich
CATEGORIES:Senioren
END:VEVENT
BEGIN:VEVENT
DTSTART;VALUE=DATE:20241016
DTEND;VALUE=DATE:20241017
DTSTAMP:20260425T183911
CREATED:20240820T165222Z
LAST-MODIFIED:20240820T170551Z
UID:10002203-1729036800-1729123199@bowling-wien.at
SUMMARY:ÖM Senioren Einzel Runde 2 Tag 2
DESCRIPTION:2. Runde
URL:https://bowling-wien.at/events/kategorie/senioren/
LOCATION:Sportcenter Cumberland\, Cumberlandstraße 102\, Wien\, Wien\, 1140\, Österreich
CATEGORIES:Senioren
END:VEVENT
BEGIN:VEVENT
DTSTART;VALUE=DATE:20241016
DTEND;VALUE=DATE:20241017
DTSTAMP:20260425T183911
CREATED:20240820T165321Z
LAST-MODIFIED:20240820T170543Z
UID:10002211-1729036800-1729123199@bowling-wien.at
SUMMARY:ÖM Senioren Doppel Runde 2 Tag 2
DESCRIPTION:2. Runde
URL:https://bowling-wien.at/events/kategorie/senioren/
LOCATION:Sportcenter Cumberland\, Cumberlandstraße 102\, Wien\, Wien\, 1140\, Österreich
CATEGORIES:Senioren
END:VEVENT
BEGIN:VEVENT
DTSTART;TZID=Europe/Vienna:20241021T183000
DTEND;TZID=Europe/Vienna:20241021T183000
DTSTAMP:20260425T183911
CREATED:20240820T164354Z
LAST-MODIFIED:20240820T170332Z
UID:10002039-1729535400-1729535400@bowling-wien.at
SUMMARY:Trio - DA1
DESCRIPTION:3. Runde
URL:https://bowling-wien.at/events/kategorie/allgemeine-klasse/trio-3er/
LOCATION:Plus Bowling Center\, Beheimgasse 5-7\, Wien\, Wien\, 1170\, Österreich
CATEGORIES:Trio (3er)
ORGANIZER;CN="Landesverband Wien Bowling":MAILTO:sekretariat@bowling-wien.at
END:VEVENT
BEGIN:VEVENT
DTSTART;TZID=Europe/Vienna:20241021T183000
DTEND;TZID=Europe/Vienna:20241021T183000
DTSTAMP:20260425T183912
CREATED:20240820T164413Z
LAST-MODIFIED:20240820T170331Z
UID:10002040-1729535400-1729535400@bowling-wien.at
SUMMARY:Trio - H1A
DESCRIPTION:3. Runde – 1.™BC / ALT 2 setzt aus.
URL:https://bowling-wien.at/events/kategorie/allgemeine-klasse/trio-3er/
LOCATION:Sportcenter Cumberland\, Cumberlandstraße 102\, Wien\, Wien\, 1140\, Österreich
CATEGORIES:Trio (3er)
ORGANIZER;CN="Landesverband Wien Bowling":MAILTO:sekretariat@bowling-wien.at
END:VEVENT
BEGIN:VEVENT
DTSTART;TZID=Europe/Vienna:20241021T183000
DTEND;TZID=Europe/Vienna:20241021T183000
DTSTAMP:20260425T183912
CREATED:20240820T164413Z
LAST-MODIFIED:20240820T170331Z
UID:10002041-1729535400-1729535400@bowling-wien.at
SUMMARY:Trio - H1B
DESCRIPTION:3. Runde – Future-BTA 3 setzt aus.
URL:https://bowling-wien.at/events/kategorie/allgemeine-klasse/trio-3er/
LOCATION:Plus Bowling Center\, Beheimgasse 5-7\, Wien\, Wien\, 1170\, Österreich
CATEGORIES:Trio (3er)
ORGANIZER;CN="Landesverband Wien Bowling":MAILTO:sekretariat@bowling-wien.at
END:VEVENT
BEGIN:VEVENT
DTSTART;TZID=Europe/Vienna:20241021T183000
DTEND;TZID=Europe/Vienna:20241021T183000
DTSTAMP:20260425T183912
CREATED:20240820T164413Z
LAST-MODIFIED:20240820T170331Z
UID:10002042-1729535400-1729535400@bowling-wien.at
SUMMARY:Trio - H2A
DESCRIPTION:3. Runde – BC Favoriten setzt aus.
URL:https://bowling-wien.at/events/kategorie/allgemeine-klasse/trio-3er/
LOCATION:Plus Bowling Center\, Beheimgasse 5-7\, Wien\, Wien\, 1170\, Österreich
CATEGORIES:Trio (3er)
ORGANIZER;CN="Landesverband Wien Bowling":MAILTO:sekretariat@bowling-wien.at
END:VEVENT
BEGIN:VEVENT
DTSTART;TZID=Europe/Vienna:20241023T183000
DTEND;TZID=Europe/Vienna:20241023T193000
DTSTAMP:20260425T183912
CREATED:20240830T074947Z
LAST-MODIFIED:20240830T074947Z
UID:10002255-1729708200-1729711800@bowling-wien.at
SUMMARY:Sekretariat
DESCRIPTION:
URL:https://bowling-wien.at/events/kategorie/sekretariat/
CATEGORIES:Sekretariat
END:VEVENT
BEGIN:VEVENT
DTSTART;TZID=Europe/Vienna:20241025T160000
DTEND;TZID=Europe/Vienna:20241025T160000
DTSTAMP:20260425T183912
CREATED:20240820T165458Z
LAST-MODIFIED:20240820T170331Z
UID:10002235-1729872000-1729872000@bowling-wien.at
SUMMARY:Special League
DESCRIPTION:2. Runde
URL:https://bowling-wien.at/events/kategorie/special-league/
LOCATION:Plus Bowling Center\, Beheimgasse 5-7\, Wien\, Wien\, 1170\, Österreich
CATEGORIES:Special League
ORGANIZER;CN="Landesverband Wien Bowling":MAILTO:sekretariat@bowling-wien.at
END:VEVENT
BEGIN:VEVENT
DTSTART;TZID=Europe/Vienna:20241028T183000
DTEND;TZID=Europe/Vienna:20241028T183000
DTSTAMP:20260425T183912
CREATED:20240820T164653Z
LAST-MODIFIED:20240820T170331Z
UID:10002097-1730140200-1730140200@bowling-wien.at
SUMMARY:Team - H1
DESCRIPTION:3. Runde
URL:https://bowling-wien.at/events/kategorie/allgemeine-klasse/team-4er-5er/
LOCATION:Sportcenter Cumberland\, Cumberlandstraße 102\, Wien\, Wien\, 1140\, Österreich
CATEGORIES:Team (4er/5er)
ORGANIZER;CN="Landesverband Wien Bowling":MAILTO:sekretariat@bowling-wien.at
END:VEVENT
BEGIN:VEVENT
DTSTART;TZID=Europe/Vienna:20241028T183000
DTEND;TZID=Europe/Vienna:20241028T183000
DTSTAMP:20260425T183912
CREATED:20240820T164653Z
LAST-MODIFIED:20240820T170331Z
UID:10002096-1730140200-1730140200@bowling-wien.at
SUMMARY:Team - DA1
DESCRIPTION:2. Runde – Vienna Striker setzt aus.
URL:https://bowling-wien.at/events/kategorie/allgemeine-klasse/team-4er-5er/
LOCATION:Sportcenter Cumberland\, Cumberlandstraße 102\, Wien\, Wien\, 1140\, Österreich
CATEGORIES:Team (4er/5er)
ORGANIZER;CN="Landesverband Wien Bowling":MAILTO:sekretariat@bowling-wien.at
END:VEVENT
BEGIN:VEVENT
DTSTART;VALUE=DATE:20241030
DTEND;VALUE=DATE:20241031
DTSTAMP:20260425T183912
CREATED:20240820T164314Z
LAST-MODIFIED:20240820T170330Z
UID:10002023-1730246400-1730332799@bowling-wien.at
SUMMARY:Nenntag LVWB WM Senioren Mixed
DESCRIPTION:
URL:https://bowling-wien.at/event/nenntag-lvwb-wm-senioren-mixed-2/
END:VEVENT
END:VCALENDAR