BEGIN:VCALENDAR
VERSION:2.0
PRODID:-//Landes Verband Wien Bowling - ECPv6.15.20//NONSGML v1.0//EN
CALSCALE:GREGORIAN
METHOD:PUBLISH
X-WR-CALNAME:Landes Verband Wien Bowling
X-ORIGINAL-URL:https://bowling-wien.at
X-WR-CALDESC:Veranstaltungen für Landes Verband Wien Bowling
REFRESH-INTERVAL;VALUE=DURATION:PT1H
X-Robots-Tag:noindex
X-PUBLISHED-TTL:PT1H
BEGIN:VTIMEZONE
TZID:Europe/Vienna
BEGIN:DAYLIGHT
TZOFFSETFROM:+0100
TZOFFSETTO:+0200
TZNAME:CEST
DTSTART:20230326T010000
END:DAYLIGHT
BEGIN:STANDARD
TZOFFSETFROM:+0200
TZOFFSETTO:+0100
TZNAME:CET
DTSTART:20231029T010000
END:STANDARD
BEGIN:DAYLIGHT
TZOFFSETFROM:+0100
TZOFFSETTO:+0200
TZNAME:CEST
DTSTART:20240331T010000
END:DAYLIGHT
BEGIN:STANDARD
TZOFFSETFROM:+0200
TZOFFSETTO:+0100
TZNAME:CET
DTSTART:20241027T010000
END:STANDARD
BEGIN:DAYLIGHT
TZOFFSETFROM:+0100
TZOFFSETTO:+0200
TZNAME:CEST
DTSTART:20250330T010000
END:DAYLIGHT
BEGIN:STANDARD
TZOFFSETFROM:+0200
TZOFFSETTO:+0100
TZNAME:CET
DTSTART:20251026T010000
END:STANDARD
END:VTIMEZONE
BEGIN:VEVENT
DTSTART;VALUE=DATE:20241101
DTEND;VALUE=DATE:20241102
DTSTAMP:20260425T171504
CREATED:20240820T165140Z
LAST-MODIFIED:20240820T170330Z
UID:10002189-1730419200-1730505599@bowling-wien.at
SUMMARY:STM Doppel Quali Runde 2
DESCRIPTION:2. Runde
URL:https://bowling-wien.at/events/kategorie/oeskb/
LOCATION:Plus Bowling Center\, Beheimgasse 5-7\, Wien\, Wien\, 1170\, Österreich
CATEGORIES:ÖSKB
END:VEVENT
BEGIN:VEVENT
DTSTART;VALUE=DATE:20241101
DTEND;VALUE=DATE:20241102
DTSTAMP:20260425T171504
CREATED:20240820T165140Z
LAST-MODIFIED:20240820T170330Z
UID:10002190-1730419200-1730505599@bowling-wien.at
SUMMARY:STM Doppel Quali Runde 2
DESCRIPTION:2. Runde
URL:https://bowling-wien.at/events/kategorie/oeskb/
LOCATION:Sportcenter Cumberland\, Cumberlandstraße 102\, Wien\, Wien\, 1140\, Österreich
CATEGORIES:ÖSKB
END:VEVENT
BEGIN:VEVENT
DTSTART;TZID=Europe/Vienna:20241103T100000
DTEND;TZID=Europe/Vienna:20241103T100000
DTSTAMP:20260425T171504
CREATED:20240820T164553Z
LAST-MODIFIED:20240829T084442Z
UID:10002075-1730628000-1730628000@bowling-wien.at
SUMMARY:Trio - WLD
DESCRIPTION:3. Runde
URL:https://bowling-wien.at/events/kategorie/allgemeine-klasse/trio-3er/
LOCATION:Sportcenter Cumberland\, Cumberlandstraße 102\, Wien\, Wien\, 1140\, Österreich
CATEGORIES:Trio (3er)
ORGANIZER;CN="Landesverband Wien Bowling":MAILTO:sekretariat@bowling-wien.at
END:VEVENT
BEGIN:VEVENT
DTSTART;TZID=Europe/Vienna:20241103T100000
DTEND;TZID=Europe/Vienna:20241103T100000
DTSTAMP:20260425T171504
CREATED:20240820T164553Z
LAST-MODIFIED:20240829T084520Z
UID:10002076-1730628000-1730628000@bowling-wien.at
SUMMARY:Trio - WLH
DESCRIPTION:3. Runde
URL:https://bowling-wien.at/events/kategorie/allgemeine-klasse/trio-3er/
LOCATION:Plus Bowling Center\, Beheimgasse 5-7\, Wien\, Wien\, 1170\, Österreich
CATEGORIES:Trio (3er)
ORGANIZER;CN="Landesverband Wien Bowling":MAILTO:sekretariat@bowling-wien.at
END:VEVENT
BEGIN:VEVENT
DTSTART;TZID=Europe/Vienna:20241103T100000
DTEND;TZID=Europe/Vienna:20241103T100000
DTSTAMP:20260425T171504
CREATED:20240820T164554Z
LAST-MODIFIED:20241027T095212Z
UID:10002077-1730628000-1730628000@bowling-wien.at
SUMMARY:Trio - H2LL
DESCRIPTION:3. Runde
URL:https://bowling-wien.at/events/kategorie/allgemeine-klasse/trio-3er/
LOCATION:Plus Bowling Center\, Beheimgasse 5-7\, Wien\, Wien\, 1170\, Österreich
CATEGORIES:Trio (3er)
ORGANIZER;CN="Landesverband Wien Bowling":MAILTO:sekretariat@bowling-wien.at
END:VEVENT
BEGIN:VEVENT
DTSTART;TZID=Europe/Vienna:20241104T183000
DTEND;TZID=Europe/Vienna:20241104T183000
DTSTAMP:20260425T171504
CREATED:20240820T164654Z
LAST-MODIFIED:20240820T170329Z
UID:10002098-1730745000-1730745000@bowling-wien.at
SUMMARY:Team - DA1
DESCRIPTION:3. Runde
URL:https://bowling-wien.at/events/kategorie/allgemeine-klasse/team-4er-5er/
LOCATION:Plus Bowling Center\, Beheimgasse 5-7\, Wien\, Wien\, 1170\, Österreich
CATEGORIES:Team (4er/5er)
ORGANIZER;CN="Landesverband Wien Bowling":MAILTO:sekretariat@bowling-wien.at
END:VEVENT
BEGIN:VEVENT
DTSTART;TZID=Europe/Vienna:20241104T183000
DTEND;TZID=Europe/Vienna:20241104T183000
DTSTAMP:20260425T171504
CREATED:20240820T164654Z
LAST-MODIFIED:20240820T170329Z
UID:10002099-1730745000-1730745000@bowling-wien.at
SUMMARY:Team - H1
DESCRIPTION:4. Runde
URL:https://bowling-wien.at/events/kategorie/allgemeine-klasse/team-4er-5er/
LOCATION:Plus Bowling Center\, Beheimgasse 5-7\, Wien\, Wien\, 1170\, Österreich
CATEGORIES:Team (4er/5er)
ORGANIZER;CN="Landesverband Wien Bowling":MAILTO:sekretariat@bowling-wien.at
END:VEVENT
BEGIN:VEVENT
DTSTART;TZID=Europe/Vienna:20241104T183000
DTEND;TZID=Europe/Vienna:20241104T183000
DTSTAMP:20260425T171504
CREATED:20240820T164713Z
LAST-MODIFIED:20240820T170329Z
UID:10002100-1730745000-1730745000@bowling-wien.at
SUMMARY:Team - H2
DESCRIPTION:3. Runde
URL:https://bowling-wien.at/events/kategorie/allgemeine-klasse/team-4er-5er/
LOCATION:Plus Bowling Center\, Beheimgasse 5-7\, Wien\, Wien\, 1170\, Österreich
CATEGORIES:Team (4er/5er)
ORGANIZER;CN="Landesverband Wien Bowling":MAILTO:sekretariat@bowling-wien.at
END:VEVENT
BEGIN:VEVENT
DTSTART;TZID=Europe/Vienna:20241106T183000
DTEND;TZID=Europe/Vienna:20241106T193000
DTSTAMP:20260425T171504
CREATED:20240830T074947Z
LAST-MODIFIED:20240830T074947Z
UID:10002256-1730917800-1730921400@bowling-wien.at
SUMMARY:Sekretariat
DESCRIPTION:
URL:https://bowling-wien.at/events/kategorie/sekretariat/
CATEGORIES:Sekretariat
END:VEVENT
BEGIN:VEVENT
DTSTART;TZID=Europe/Vienna:20241109T090000
DTEND;TZID=Europe/Vienna:20241109T090000
DTSTAMP:20260425T171504
CREATED:20240820T164510Z
LAST-MODIFIED:20240820T170329Z
UID:10002061-1731142800-1731142800@bowling-wien.at
SUMMARY:Mixed Trio - MT1
DESCRIPTION:3. Runde – Strike & Spare BC Vienna 1 setzt aus.
URL:https://bowling-wien.at/events/kategorie/allgemeine-klasse/mixed-trio-3er/
LOCATION:Plus Bowling Center\, Beheimgasse 5-7\, Wien\, Wien\, 1170\, Österreich
CATEGORIES:Mixed-Trio (3er)
ORGANIZER;CN="Landesverband Wien Bowling":MAILTO:sekretariat@bowling-wien.at
END:VEVENT
BEGIN:VEVENT
DTSTART;TZID=Europe/Vienna:20241110T100000
DTEND;TZID=Europe/Vienna:20241110T100000
DTSTAMP:20260425T171504
CREATED:20240820T164853Z
LAST-MODIFIED:20240820T170328Z
UID:10002136-1731232800-1731232800@bowling-wien.at
SUMMARY:Team - WLD
DESCRIPTION:2. Runde
URL:https://bowling-wien.at/events/kategorie/allgemeine-klasse/team-4er-5er/
LOCATION:Plus Bowling Center\, Beheimgasse 5-7\, Wien\, Wien\, 1170\, Österreich
CATEGORIES:Team (4er/5er)
ORGANIZER;CN="Landesverband Wien Bowling":MAILTO:sekretariat@bowling-wien.at
END:VEVENT
BEGIN:VEVENT
DTSTART;TZID=Europe/Vienna:20241110T100000
DTEND;TZID=Europe/Vienna:20241110T100000
DTSTAMP:20260425T171504
CREATED:20240820T164853Z
LAST-MODIFIED:20240820T170329Z
UID:10002137-1731232800-1731232800@bowling-wien.at
SUMMARY:Team - WLH
DESCRIPTION:2. Runde
URL:https://bowling-wien.at/events/kategorie/allgemeine-klasse/team-4er-5er/
LOCATION:Sportcenter Cumberland\, Cumberlandstraße 102\, Wien\, Wien\, 1140\, Österreich
CATEGORIES:Team (4er/5er)
ORGANIZER;CN="Landesverband Wien Bowling":MAILTO:sekretariat@bowling-wien.at
END:VEVENT
BEGIN:VEVENT
DTSTART;TZID=Europe/Vienna:20241110T100000
DTEND;TZID=Europe/Vienna:20241110T100000
DTSTAMP:20260425T171504
CREATED:20240820T164854Z
LAST-MODIFIED:20240820T170328Z
UID:10002138-1731232800-1731232800@bowling-wien.at
SUMMARY:Team - H2LL
DESCRIPTION:2. Runde
URL:https://bowling-wien.at/events/kategorie/allgemeine-klasse/team-4er-5er/
LOCATION:Plus Bowling Center\, Beheimgasse 5-7\, Wien\, Wien\, 1170\, Österreich
CATEGORIES:Team (4er/5er)
ORGANIZER;CN="Landesverband Wien Bowling":MAILTO:sekretariat@bowling-wien.at
END:VEVENT
BEGIN:VEVENT
DTSTART;VALUE=DATE:20241111
DTEND;VALUE=DATE:20241112
DTSTAMP:20260425T171505
CREATED:20240820T165439Z
LAST-MODIFIED:20240820T170328Z
UID:10002230-1731283200-1731369599@bowling-wien.at
SUMMARY:WM Senioren Mixed Runde 1
DESCRIPTION:1. Runde
URL:https://bowling-wien.at/events/kategorie/senioren/
LOCATION:Plus Bowling Center\, Beheimgasse 5-7\, Wien\, Wien\, 1170\, Österreich
CATEGORIES:Senioren
ORGANIZER;CN="Landesverband Wien Bowling":MAILTO:sekretariat@bowling-wien.at
END:VEVENT
BEGIN:VEVENT
DTSTART;VALUE=DATE:20241111
DTEND;VALUE=DATE:20241112
DTSTAMP:20260425T171505
CREATED:20240826T082025Z
LAST-MODIFIED:20240826T082025Z
UID:10002245-1731283200-1731369599@bowling-wien.at
SUMMARY:WM Senioren Mixed Runde 1
DESCRIPTION:1. Runde
URL:https://bowling-wien.at/events/kategorie/senioren/
LOCATION:Sportcenter Cumberland\, Cumberlandstraße 102\, Wien\, Wien\, 1140\, Österreich
CATEGORIES:Senioren
ORGANIZER;CN="Landesverband Wien Bowling":MAILTO:sekretariat@bowling-wien.at
END:VEVENT
BEGIN:VEVENT
DTSTART;VALUE=DATE:20241113
DTEND;VALUE=DATE:20241114
DTSTAMP:20260425T171505
CREATED:20240820T164315Z
LAST-MODIFIED:20240820T170328Z
UID:10002024-1731456000-1731542399@bowling-wien.at
SUMMARY:Nenntag LVWB WM Jugend
DESCRIPTION:
URL:https://bowling-wien.at/event/nenntag-lvwb-wm-jugend-2/
END:VEVENT
BEGIN:VEVENT
DTSTART;VALUE=DATE:20241116
DTEND;VALUE=DATE:20241117
DTSTAMP:20260425T171505
CREATED:20240820T165141Z
LAST-MODIFIED:20240820T170328Z
UID:10002191-1731715200-1731801599@bowling-wien.at
SUMMARY:STM Doppel
DESCRIPTION:Semifinale
URL:https://bowling-wien.at/events/kategorie/oeskb/
CATEGORIES:ÖSKB
END:VEVENT
BEGIN:VEVENT
DTSTART;VALUE=DATE:20241117
DTEND;VALUE=DATE:20241118
DTSTAMP:20260425T171505
CREATED:20240820T165147Z
LAST-MODIFIED:20240820T170328Z
UID:10002192-1731801600-1731887999@bowling-wien.at
SUMMARY:STM Doppel
DESCRIPTION:Finale
URL:https://bowling-wien.at/events/kategorie/oeskb/
CATEGORIES:ÖSKB
END:VEVENT
BEGIN:VEVENT
DTSTART;TZID=Europe/Vienna:20241118T183000
DTEND;TZID=Europe/Vienna:20241118T183000
DTSTAMP:20260425T171505
CREATED:20240820T164939Z
LAST-MODIFIED:20240820T170327Z
UID:10002154-1731954600-1731954600@bowling-wien.at
SUMMARY:4er - 1KL
DESCRIPTION:Runde 1+2
URL:https://bowling-wien.at/events/kategorie/allgemeine-klasse/4er-6er/
LOCATION:Plus Bowling Center\, Beheimgasse 5-7\, Wien\, Wien\, 1170\, Österreich
CATEGORIES:Head to Head (4er/6er)
ORGANIZER;CN="Landesverband Wien Bowling":MAILTO:sekretariat@bowling-wien.at
END:VEVENT
BEGIN:VEVENT
DTSTART;TZID=Europe/Vienna:20241118T183000
DTEND;TZID=Europe/Vienna:20241118T183000
DTSTAMP:20260425T171505
CREATED:20240820T164954Z
LAST-MODIFIED:20240820T170327Z
UID:10002155-1731954600-1731954600@bowling-wien.at
SUMMARY:4er - 2KL
DESCRIPTION:Runde 1+2
URL:https://bowling-wien.at/events/kategorie/allgemeine-klasse/4er-6er/
LOCATION:Plus Bowling Center\, Beheimgasse 5-7\, Wien\, Wien\, 1170\, Österreich
CATEGORIES:Head to Head (4er/6er)
ORGANIZER;CN="Landesverband Wien Bowling":MAILTO:sekretariat@bowling-wien.at
END:VEVENT
BEGIN:VEVENT
DTSTART;TZID=Europe/Vienna:20241120T183000
DTEND;TZID=Europe/Vienna:20241120T183000
DTSTAMP:20260425T171505
CREATED:20240820T164714Z
LAST-MODIFIED:20240820T170326Z
UID:10002101-1732127400-1732127400@bowling-wien.at
SUMMARY:Team - DA1
DESCRIPTION:4. Runde – BC Tyrolia 2 setzt aus.
URL:https://bowling-wien.at/events/kategorie/allgemeine-klasse/team-4er-5er/
LOCATION:Sportcenter Cumberland\, Cumberlandstraße 102\, Wien\, Wien\, 1140\, Österreich
CATEGORIES:Team (4er/5er)
ORGANIZER;CN="Landesverband Wien Bowling":MAILTO:sekretariat@bowling-wien.at
END:VEVENT
BEGIN:VEVENT
DTSTART;TZID=Europe/Vienna:20241120T183000
DTEND;TZID=Europe/Vienna:20241120T183000
DTSTAMP:20260425T171505
CREATED:20240820T164714Z
LAST-MODIFIED:20240820T170327Z
UID:10002102-1732127400-1732127400@bowling-wien.at
SUMMARY:Team - H2
DESCRIPTION:4. Runde – BBC setzt aus.
URL:https://bowling-wien.at/events/kategorie/allgemeine-klasse/team-4er-5er/
LOCATION:Sportcenter Cumberland\, Cumberlandstraße 102\, Wien\, Wien\, 1140\, Österreich
CATEGORIES:Team (4er/5er)
ORGANIZER;CN="Landesverband Wien Bowling":MAILTO:sekretariat@bowling-wien.at
END:VEVENT
BEGIN:VEVENT
DTSTART;TZID=Europe/Vienna:20241120T183000
DTEND;TZID=Europe/Vienna:20241120T193000
DTSTAMP:20260425T171505
CREATED:20240830T074947Z
LAST-MODIFIED:20240830T074947Z
UID:10002257-1732127400-1732131000@bowling-wien.at
SUMMARY:Sekretariat
DESCRIPTION:
URL:https://bowling-wien.at/events/kategorie/sekretariat/
CATEGORIES:Sekretariat
END:VEVENT
BEGIN:VEVENT
DTSTART;VALUE=DATE:20241123
DTEND;VALUE=DATE:20241124
DTSTAMP:20260425T171505
CREATED:20240820T165213Z
LAST-MODIFIED:20240820T170326Z
UID:10002199-1732320000-1732406399@bowling-wien.at
SUMMARY:WrM Jugend Einzel/Doppel
DESCRIPTION:
URL:https://bowling-wien.at/events/kategorie/jugend/
LOCATION:Plus Bowling Center\, Beheimgasse 5-7\, Wien\, Wien\, 1170\, Österreich
CATEGORIES:Jugend
ORGANIZER;CN="Landesverband Wien Bowling":MAILTO:sekretariat@bowling-wien.at
END:VEVENT
BEGIN:VEVENT
DTSTART;TZID=Europe/Vienna:20241124T100000
DTEND;TZID=Europe/Vienna:20241124T100000
DTSTAMP:20260425T171505
CREATED:20240820T164554Z
LAST-MODIFIED:20240820T170326Z
UID:10002078-1732442400-1732442400@bowling-wien.at
SUMMARY:Trio - WLD
DESCRIPTION:4. Runde
URL:https://bowling-wien.at/events/kategorie/allgemeine-klasse/trio-3er/
LOCATION:Plus Bowling Center\, Beheimgasse 5-7\, Wien\, Wien\, 1170\, Österreich
CATEGORIES:Trio (3er)
ORGANIZER;CN="Landesverband Wien Bowling":MAILTO:sekretariat@bowling-wien.at
END:VEVENT
BEGIN:VEVENT
DTSTART;TZID=Europe/Vienna:20241124T100000
DTEND;TZID=Europe/Vienna:20241124T100000
DTSTAMP:20260425T171505
CREATED:20240820T164554Z
LAST-MODIFIED:20240820T170326Z
UID:10002079-1732442400-1732442400@bowling-wien.at
SUMMARY:Trio - WLH
DESCRIPTION:4. Runde
URL:https://bowling-wien.at/events/kategorie/allgemeine-klasse/trio-3er/
LOCATION:Plus Bowling Center\, Beheimgasse 5-7\, Wien\, Wien\, 1170\, Österreich
CATEGORIES:Trio (3er)
ORGANIZER;CN="Landesverband Wien Bowling":MAILTO:sekretariat@bowling-wien.at
END:VEVENT
BEGIN:VEVENT
DTSTART;TZID=Europe/Vienna:20241124T100000
DTEND;TZID=Europe/Vienna:20241124T100000
DTSTAMP:20260425T171505
CREATED:20240820T164610Z
LAST-MODIFIED:20240826T082106Z
UID:10002080-1732442400-1732442400@bowling-wien.at
SUMMARY:Trio - H2LL
DESCRIPTION:4. Runde
URL:https://bowling-wien.at/events/kategorie/allgemeine-klasse/trio-3er/
LOCATION:Sportcenter Cumberland\, Cumberlandstraße 102\, Wien\, Wien\, 1140\, Österreich
CATEGORIES:Trio (3er)
ORGANIZER;CN="Landesverband Wien Bowling":MAILTO:sekretariat@bowling-wien.at
END:VEVENT
BEGIN:VEVENT
DTSTART;TZID=Europe/Vienna:20241125T183000
DTEND;TZID=Europe/Vienna:20241125T183000
DTSTAMP:20260425T171505
CREATED:20240820T164414Z
LAST-MODIFIED:20240820T170325Z
UID:10002043-1732559400-1732559400@bowling-wien.at
SUMMARY:Trio - DA1
DESCRIPTION:4. Runde
URL:https://bowling-wien.at/events/kategorie/allgemeine-klasse/trio-3er/
LOCATION:Plus Bowling Center\, Beheimgasse 5-7\, Wien\, Wien\, 1170\, Österreich
CATEGORIES:Trio (3er)
ORGANIZER;CN="Landesverband Wien Bowling":MAILTO:sekretariat@bowling-wien.at
END:VEVENT
BEGIN:VEVENT
DTSTART;TZID=Europe/Vienna:20241125T183000
DTEND;TZID=Europe/Vienna:20241125T183000
DTSTAMP:20260425T171505
CREATED:20240820T164414Z
LAST-MODIFIED:20240820T170326Z
UID:10002044-1732559400-1732559400@bowling-wien.at
SUMMARY:Trio - H1A
DESCRIPTION:4. Runde – Pegasus-Kobra setzt aus.
URL:https://bowling-wien.at/events/kategorie/allgemeine-klasse/trio-3er/
LOCATION:Plus Bowling Center\, Beheimgasse 5-7\, Wien\, Wien\, 1170\, Österreich
CATEGORIES:Trio (3er)
ORGANIZER;CN="Landesverband Wien Bowling":MAILTO:sekretariat@bowling-wien.at
END:VEVENT
BEGIN:VEVENT
DTSTART;TZID=Europe/Vienna:20241125T183000
DTEND;TZID=Europe/Vienna:20241125T183000
DTSTAMP:20260425T171505
CREATED:20240820T164422Z
LAST-MODIFIED:20240820T170325Z
UID:10002045-1732559400-1732559400@bowling-wien.at
SUMMARY:Trio - H1B
DESCRIPTION:4. Runde – BC PBLA setzt aus.
URL:https://bowling-wien.at/events/kategorie/allgemeine-klasse/trio-3er/
LOCATION:Plus Bowling Center\, Beheimgasse 5-7\, Wien\, Wien\, 1170\, Österreich
CATEGORIES:Trio (3er)
ORGANIZER;CN="Landesverband Wien Bowling":MAILTO:sekretariat@bowling-wien.at
END:VEVENT
END:VCALENDAR