BEGIN:VCALENDAR
VERSION:2.0
PRODID:-//Landes Verband Wien Bowling - ECPv6.15.20//NONSGML v1.0//EN
CALSCALE:GREGORIAN
METHOD:PUBLISH
X-WR-CALNAME:Landes Verband Wien Bowling
X-ORIGINAL-URL:https://bowling-wien.at
X-WR-CALDESC:Veranstaltungen für Landes Verband Wien Bowling
REFRESH-INTERVAL;VALUE=DURATION:PT1H
X-Robots-Tag:noindex
X-PUBLISHED-TTL:PT1H
BEGIN:VTIMEZONE
TZID:Europe/Vienna
BEGIN:DAYLIGHT
TZOFFSETFROM:+0100
TZOFFSETTO:+0200
TZNAME:CEST
DTSTART:20230326T010000
END:DAYLIGHT
BEGIN:STANDARD
TZOFFSETFROM:+0200
TZOFFSETTO:+0100
TZNAME:CET
DTSTART:20231029T010000
END:STANDARD
BEGIN:DAYLIGHT
TZOFFSETFROM:+0100
TZOFFSETTO:+0200
TZNAME:CEST
DTSTART:20240331T010000
END:DAYLIGHT
BEGIN:STANDARD
TZOFFSETFROM:+0200
TZOFFSETTO:+0100
TZNAME:CET
DTSTART:20241027T010000
END:STANDARD
BEGIN:DAYLIGHT
TZOFFSETFROM:+0100
TZOFFSETTO:+0200
TZNAME:CEST
DTSTART:20250330T010000
END:DAYLIGHT
BEGIN:STANDARD
TZOFFSETFROM:+0200
TZOFFSETTO:+0100
TZNAME:CET
DTSTART:20251026T010000
END:STANDARD
END:VTIMEZONE
BEGIN:VEVENT
DTSTART;VALUE=DATE:20241201
DTEND;VALUE=DATE:20241202
DTSTAMP:20260425T154649
CREATED:20240820T165323Z
LAST-MODIFIED:20240820T170522Z
UID:10002214-1733011200-1733097599@bowling-wien.at
SUMMARY:ÖM Senioren Doppel Herren A+B+C
DESCRIPTION:Finale
URL:https://bowling-wien.at/events/kategorie/senioren/
CATEGORIES:Senioren
END:VEVENT
BEGIN:VEVENT
DTSTART;VALUE=DATE:20241201
DTEND;VALUE=DATE:20241202
DTSTAMP:20260425T154649
CREATED:20240820T165323Z
LAST-MODIFIED:20240820T170324Z
UID:10002215-1733011200-1733097599@bowling-wien.at
SUMMARY:ÖM Senioren Doppel Damen 50+/60+
DESCRIPTION:Finale
URL:https://bowling-wien.at/events/kategorie/senioren/
CATEGORIES:Senioren
END:VEVENT
BEGIN:VEVENT
DTSTART;VALUE=DATE:20241202
DTEND;VALUE=DATE:20241203
DTSTAMP:20260425T154649
CREATED:20240820T165444Z
LAST-MODIFIED:20240820T170238Z
UID:10002231-1733097600-1733183999@bowling-wien.at
SUMMARY:WM Senioren Mixed Runde 2 Tag 1
DESCRIPTION:2. Runde
URL:https://bowling-wien.at/events/kategorie/senioren/
LOCATION:Plus Bowling Center\, Beheimgasse 5-7\, Wien\, Wien\, 1170\, Österreich
CATEGORIES:Senioren
ORGANIZER;CN="Landesverband Wien Bowling":MAILTO:sekretariat@bowling-wien.at
END:VEVENT
BEGIN:VEVENT
DTSTART;VALUE=DATE:20241204
DTEND;VALUE=DATE:20241205
DTSTAMP:20260425T154649
CREATED:20240820T165444Z
LAST-MODIFIED:20240820T170238Z
UID:10002232-1733270400-1733356799@bowling-wien.at
SUMMARY:WM Senioren Mixed Runde 2 Tag 2
DESCRIPTION:2. Runde
URL:https://bowling-wien.at/events/kategorie/senioren/
LOCATION:Sportcenter Cumberland\, Cumberlandstraße 102\, Wien\, Wien\, 1140\, Österreich
CATEGORIES:Senioren
ORGANIZER;CN="Landesverband Wien Bowling":MAILTO:sekretariat@bowling-wien.at
END:VEVENT
BEGIN:VEVENT
DTSTART;TZID=Europe/Vienna:20241204T180000
DTEND;TZID=Europe/Vienna:20241204T193000
DTSTAMP:20260425T154649
CREATED:20240830T074947Z
LAST-MODIFIED:20240830T074947Z
UID:10002258-1733335200-1733340600@bowling-wien.at
SUMMARY:Sekretariat
DESCRIPTION:
URL:https://bowling-wien.at/events/kategorie/sekretariat/
CATEGORIES:Sekretariat
END:VEVENT
BEGIN:VEVENT
DTSTART;TZID=Europe/Vienna:20241207T110000
DTEND;TZID=Europe/Vienna:20241207T110000
DTSTAMP:20260425T154649
CREATED:20240820T164510Z
LAST-MODIFIED:20240820T170238Z
UID:10002062-1733569200-1733569200@bowling-wien.at
SUMMARY:Mixed Trio - MT1
DESCRIPTION:4. Runde – Sportunion BC Funk 3 setzt aus.
URL:https://bowling-wien.at/events/kategorie/allgemeine-klasse/mixed-trio-3er/
LOCATION:Sportcenter Cumberland\, Cumberlandstraße 102\, Wien\, Wien\, 1140\, Österreich
CATEGORIES:Mixed-Trio (3er)
ORGANIZER;CN="Landesverband Wien Bowling":MAILTO:sekretariat@bowling-wien.at
END:VEVENT
BEGIN:VEVENT
DTSTART;TZID=Europe/Vienna:20241209T183000
DTEND;TZID=Europe/Vienna:20241209T183000
DTSTAMP:20260425T154649
CREATED:20240820T164714Z
LAST-MODIFIED:20240820T170238Z
UID:10002103-1733769000-1733769000@bowling-wien.at
SUMMARY:Team - DA1
DESCRIPTION:5. Runde
URL:https://bowling-wien.at/events/kategorie/allgemeine-klasse/team-4er-5er/
LOCATION:Plus Bowling Center\, Beheimgasse 5-7\, Wien\, Wien\, 1170\, Österreich
CATEGORIES:Team (4er/5er)
ORGANIZER;CN="Landesverband Wien Bowling":MAILTO:sekretariat@bowling-wien.at
END:VEVENT
BEGIN:VEVENT
DTSTART;TZID=Europe/Vienna:20241209T183000
DTEND;TZID=Europe/Vienna:20241209T183000
DTSTAMP:20260425T154649
CREATED:20240820T164715Z
LAST-MODIFIED:20240820T170237Z
UID:10002104-1733769000-1733769000@bowling-wien.at
SUMMARY:Team - H1
DESCRIPTION:5. Runde
URL:https://bowling-wien.at/events/kategorie/allgemeine-klasse/team-4er-5er/
LOCATION:Plus Bowling Center\, Beheimgasse 5-7\, Wien\, Wien\, 1170\, Österreich
CATEGORIES:Team (4er/5er)
ORGANIZER;CN="Landesverband Wien Bowling":MAILTO:sekretariat@bowling-wien.at
END:VEVENT
BEGIN:VEVENT
DTSTART;TZID=Europe/Vienna:20241209T183000
DTEND;TZID=Europe/Vienna:20241209T183000
DTSTAMP:20260425T154649
CREATED:20240820T164723Z
LAST-MODIFIED:20240820T170237Z
UID:10002105-1733769000-1733769000@bowling-wien.at
SUMMARY:Team - H2
DESCRIPTION:5. Runde
URL:https://bowling-wien.at/events/kategorie/allgemeine-klasse/team-4er-5er/
LOCATION:Plus Bowling Center\, Beheimgasse 5-7\, Wien\, Wien\, 1170\, Österreich
CATEGORIES:Team (4er/5er)
ORGANIZER;CN="Landesverband Wien Bowling":MAILTO:sekretariat@bowling-wien.at
END:VEVENT
BEGIN:VEVENT
DTSTART;TZID=Europe/Vienna:20241213T160000
DTEND;TZID=Europe/Vienna:20241213T160000
DTSTAMP:20260425T154649
CREATED:20240820T165459Z
LAST-MODIFIED:20240820T170237Z
UID:10002237-1734105600-1734105600@bowling-wien.at
SUMMARY:Special League
DESCRIPTION:4. Runde
URL:https://bowling-wien.at/events/kategorie/special-league/
LOCATION:Plus Bowling Center\, Beheimgasse 5-7\, Wien\, Wien\, 1170\, Österreich
CATEGORIES:Special League
ORGANIZER;CN="Landesverband Wien Bowling":MAILTO:sekretariat@bowling-wien.at
END:VEVENT
BEGIN:VEVENT
DTSTART;TZID=Europe/Vienna:20241215T100000
DTEND;TZID=Europe/Vienna:20241215T100000
DTSTAMP:20260425T154649
CREATED:20240820T164854Z
LAST-MODIFIED:20240820T170237Z
UID:10002139-1734256800-1734256800@bowling-wien.at
SUMMARY:Team - WLH
DESCRIPTION:3. Runde
URL:https://bowling-wien.at/events/kategorie/allgemeine-klasse/team-4er-5er/
LOCATION:Plus Bowling Center\, Beheimgasse 5-7\, Wien\, Wien\, 1170\, Österreich
CATEGORIES:Team (4er/5er)
ORGANIZER;CN="Landesverband Wien Bowling":MAILTO:sekretariat@bowling-wien.at
END:VEVENT
BEGIN:VEVENT
DTSTART;TZID=Europe/Vienna:20241215T100000
DTEND;TZID=Europe/Vienna:20241215T100000
DTSTAMP:20260425T154649
CREATED:20240820T164908Z
LAST-MODIFIED:20240820T170236Z
UID:10002140-1734256800-1734256800@bowling-wien.at
SUMMARY:Team - H2LL
DESCRIPTION:3. Runde
URL:https://bowling-wien.at/events/kategorie/allgemeine-klasse/team-4er-5er/
LOCATION:Sportcenter Cumberland\, Cumberlandstraße 102\, Wien\, Wien\, 1140\, Österreich
CATEGORIES:Team (4er/5er)
ORGANIZER;CN="Landesverband Wien Bowling":MAILTO:sekretariat@bowling-wien.at
END:VEVENT
BEGIN:VEVENT
DTSTART;TZID=Europe/Vienna:20241215T100000
DTEND;TZID=Europe/Vienna:20241215T100000
DTSTAMP:20260425T154649
CREATED:20240820T164908Z
LAST-MODIFIED:20240820T170237Z
UID:10002141-1734256800-1734256800@bowling-wien.at
SUMMARY:Team - WLD
DESCRIPTION:3. Runde
URL:https://bowling-wien.at/events/kategorie/allgemeine-klasse/team-4er-5er/
LOCATION:Plus Bowling Center\, Beheimgasse 5-7\, Wien\, Wien\, 1170\, Österreich
CATEGORIES:Team (4er/5er)
ORGANIZER;CN="Landesverband Wien Bowling":MAILTO:sekretariat@bowling-wien.at
END:VEVENT
BEGIN:VEVENT
DTSTART;TZID=Europe/Vienna:20241216T183000
DTEND;TZID=Europe/Vienna:20241216T183000
DTSTAMP:20260425T154649
CREATED:20240820T164954Z
LAST-MODIFIED:20240820T170236Z
UID:10002156-1734373800-1734373800@bowling-wien.at
SUMMARY:4er - 1KL
DESCRIPTION:Runde 3+4
URL:https://bowling-wien.at/events/kategorie/allgemeine-klasse/4er-6er/
LOCATION:Plus Bowling Center\, Beheimgasse 5-7\, Wien\, Wien\, 1170\, Österreich
CATEGORIES:Head to Head (4er/6er)
ORGANIZER;CN="Landesverband Wien Bowling":MAILTO:sekretariat@bowling-wien.at
END:VEVENT
BEGIN:VEVENT
DTSTART;TZID=Europe/Vienna:20241216T183000
DTEND;TZID=Europe/Vienna:20241216T183000
DTSTAMP:20260425T154649
CREATED:20240820T164955Z
LAST-MODIFIED:20240820T170236Z
UID:10002157-1734373800-1734373800@bowling-wien.at
SUMMARY:4er - 2KL
DESCRIPTION:Runde 3+4
URL:https://bowling-wien.at/events/kategorie/allgemeine-klasse/4er-6er/
LOCATION:Plus Bowling Center\, Beheimgasse 5-7\, Wien\, Wien\, 1170\, Österreich
CATEGORIES:Head to Head (4er/6er)
ORGANIZER;CN="Landesverband Wien Bowling":MAILTO:sekretariat@bowling-wien.at
END:VEVENT
BEGIN:VEVENT
DTSTART;TZID=Europe/Vienna:20241218T183000
DTEND;TZID=Europe/Vienna:20241218T193000
DTSTAMP:20260425T154649
CREATED:20240830T074947Z
LAST-MODIFIED:20240830T074947Z
UID:10002259-1734546600-1734550200@bowling-wien.at
SUMMARY:Sekretariat
DESCRIPTION:
URL:https://bowling-wien.at/events/kategorie/sekretariat/
CATEGORIES:Sekretariat
END:VEVENT
BEGIN:VEVENT
DTSTART;TZID=Europe/Vienna:20241221T090000
DTEND;TZID=Europe/Vienna:20241221T090000
DTSTAMP:20260425T154649
CREATED:20240820T165444Z
LAST-MODIFIED:20240820T170236Z
UID:10002233-1734771600-1734771600@bowling-wien.at
SUMMARY:WM Senioren Mixed 50+ / 60+
DESCRIPTION:Finale
URL:https://bowling-wien.at/events/kategorie/senioren/
LOCATION:Plus Bowling Center\, Beheimgasse 5-7\, Wien\, Wien\, 1170\, Österreich
CATEGORIES:Senioren
ORGANIZER;CN="Landesverband Wien Bowling":MAILTO:sekretariat@bowling-wien.at
END:VEVENT
END:VCALENDAR