BEGIN:VCALENDAR
VERSION:2.0
PRODID:-//Landes Verband Wien Bowling - ECPv6.15.20//NONSGML v1.0//EN
CALSCALE:GREGORIAN
METHOD:PUBLISH
X-WR-CALNAME:Landes Verband Wien Bowling
X-ORIGINAL-URL:https://bowling-wien.at
X-WR-CALDESC:Veranstaltungen für Landes Verband Wien Bowling
REFRESH-INTERVAL;VALUE=DURATION:PT1H
X-Robots-Tag:noindex
X-PUBLISHED-TTL:PT1H
BEGIN:VTIMEZONE
TZID:Europe/Vienna
BEGIN:DAYLIGHT
TZOFFSETFROM:+0100
TZOFFSETTO:+0200
TZNAME:CEST
DTSTART:20240331T010000
END:DAYLIGHT
BEGIN:STANDARD
TZOFFSETFROM:+0200
TZOFFSETTO:+0100
TZNAME:CET
DTSTART:20241027T010000
END:STANDARD
BEGIN:DAYLIGHT
TZOFFSETFROM:+0100
TZOFFSETTO:+0200
TZNAME:CEST
DTSTART:20250330T010000
END:DAYLIGHT
BEGIN:STANDARD
TZOFFSETFROM:+0200
TZOFFSETTO:+0100
TZNAME:CET
DTSTART:20251026T010000
END:STANDARD
BEGIN:DAYLIGHT
TZOFFSETFROM:+0100
TZOFFSETTO:+0200
TZNAME:CEST
DTSTART:20260329T010000
END:DAYLIGHT
BEGIN:STANDARD
TZOFFSETFROM:+0200
TZOFFSETTO:+0100
TZNAME:CET
DTSTART:20261025T010000
END:STANDARD
END:VTIMEZONE
BEGIN:VEVENT
DTSTART;VALUE=DATE:20250108
DTEND;VALUE=DATE:20250109
DTSTAMP:20260425T142940
CREATED:20240820T164321Z
LAST-MODIFIED:20240820T170236Z
UID:10002025-1736294400-1736380799@bowling-wien.at
SUMMARY:Nenntag LVWB Staatsmeisterschaft Einzel Quali
DESCRIPTION:
URL:https://bowling-wien.at/event/nenntag-lvwb-staatsmeisterschaft-einzel-quali-3/
END:VEVENT
BEGIN:VEVENT
DTSTART;TZID=Europe/Vienna:20250108T183000
DTEND;TZID=Europe/Vienna:20250108T193000
DTSTAMP:20260425T142940
CREATED:20240830T074947Z
LAST-MODIFIED:20240830T074947Z
UID:10002260-1736361000-1736364600@bowling-wien.at
SUMMARY:Sekretariat
DESCRIPTION:
URL:https://bowling-wien.at/events/kategorie/sekretariat/
CATEGORIES:Sekretariat
END:VEVENT
BEGIN:VEVENT
DTSTART;TZID=Europe/Vienna:20250111T090000
DTEND;TZID=Europe/Vienna:20250111T090000
DTSTAMP:20260425T142940
CREATED:20240820T164511Z
LAST-MODIFIED:20240820T170236Z
UID:10002063-1736586000-1736586000@bowling-wien.at
SUMMARY:Mixed Trio - MT1
DESCRIPTION:5. Runde – BC Casino setzt aus.
URL:https://bowling-wien.at/events/kategorie/allgemeine-klasse/mixed-trio-3er/
LOCATION:Plus Bowling Center\, Beheimgasse 5-7\, Wien\, Wien\, 1170\, Österreich
CATEGORIES:Mixed-Trio (3er)
ORGANIZER;CN="Landesverband Wien Bowling":MAILTO:sekretariat@bowling-wien.at
END:VEVENT
BEGIN:VEVENT
DTSTART;TZID=Europe/Vienna:20250112T100000
DTEND;TZID=Europe/Vienna:20250112T100000
DTSTAMP:20260425T142940
CREATED:20240820T164909Z
LAST-MODIFIED:20240820T170235Z
UID:10002143-1736676000-1736676000@bowling-wien.at
SUMMARY:Team - H2LL
DESCRIPTION:4. Runde
URL:https://bowling-wien.at/events/kategorie/allgemeine-klasse/team-4er-5er/
LOCATION:Plus Bowling Center\, Beheimgasse 5-7\, Wien\, Wien\, 1170\, Österreich
CATEGORIES:Team (4er/5er)
ORGANIZER;CN="Landesverband Wien Bowling":MAILTO:sekretariat@bowling-wien.at
END:VEVENT
BEGIN:VEVENT
DTSTART;TZID=Europe/Vienna:20250112T100000
DTEND;TZID=Europe/Vienna:20250112T100000
DTSTAMP:20260425T142940
CREATED:20240820T164909Z
LAST-MODIFIED:20240820T170235Z
UID:10002142-1736676000-1736676000@bowling-wien.at
SUMMARY:Team - WLH
DESCRIPTION:4. Runde
URL:https://bowling-wien.at/events/kategorie/allgemeine-klasse/team-4er-5er/
LOCATION:Sportcenter Cumberland\, Cumberlandstraße 102\, Wien\, Wien\, 1140\, Österreich
CATEGORIES:Team (4er/5er)
ORGANIZER;CN="Landesverband Wien Bowling":MAILTO:sekretariat@bowling-wien.at
END:VEVENT
BEGIN:VEVENT
DTSTART;TZID=Europe/Vienna:20250113T183000
DTEND;TZID=Europe/Vienna:20250113T183000
DTSTAMP:20260425T142940
CREATED:20240820T164723Z
LAST-MODIFIED:20240820T170235Z
UID:10002106-1736793000-1736793000@bowling-wien.at
SUMMARY:Team - H1
DESCRIPTION:6. Runde
URL:https://bowling-wien.at/events/kategorie/allgemeine-klasse/team-4er-5er/
LOCATION:Sportcenter Cumberland\, Cumberlandstraße 102\, Wien\, Wien\, 1140\, Österreich
CATEGORIES:Team (4er/5er)
ORGANIZER;CN="Landesverband Wien Bowling":MAILTO:sekretariat@bowling-wien.at
END:VEVENT
BEGIN:VEVENT
DTSTART;TZID=Europe/Vienna:20250113T183000
DTEND;TZID=Europe/Vienna:20250113T183000
DTSTAMP:20260425T142940
CREATED:20240820T164723Z
LAST-MODIFIED:20240820T170235Z
UID:10002107-1736793000-1736793000@bowling-wien.at
SUMMARY:Team - H2
DESCRIPTION:6. Runde – 1.™BC / BC ALT 3 setzt aus.
URL:https://bowling-wien.at/events/kategorie/allgemeine-klasse/team-4er-5er/
LOCATION:Sportcenter Cumberland\, Cumberlandstraße 102\, Wien\, Wien\, 1140\, Österreich
CATEGORIES:Team (4er/5er)
ORGANIZER;CN="Landesverband Wien Bowling":MAILTO:sekretariat@bowling-wien.at
END:VEVENT
BEGIN:VEVENT
DTSTART;VALUE=DATE:20250115
DTEND;VALUE=DATE:20250116
DTSTAMP:20260425T142940
CREATED:20240820T164321Z
LAST-MODIFIED:20240820T170235Z
UID:10002026-1736899200-1736985599@bowling-wien.at
SUMMARY:Nenntag LVWB Bowlingsportabzeichen (BSA)
DESCRIPTION:
URL:https://bowling-wien.at/events/kategorie/allgemeine-klasse/bowlingsportabzeichen/
CATEGORIES:Bowlingsportabzeichen
END:VEVENT
BEGIN:VEVENT
DTSTART;TZID=Europe/Vienna:20250118T090000
DTEND;TZID=Europe/Vienna:20250118T090000
DTSTAMP:20260425T142940
CREATED:20240820T164612Z
LAST-MODIFIED:20240820T170234Z
UID:10002081-1737190800-1737190800@bowling-wien.at
SUMMARY:Trio - WLD
DESCRIPTION:5. Runde
URL:https://bowling-wien.at/events/kategorie/allgemeine-klasse/trio-3er/
LOCATION:Plus Bowling Center\, Beheimgasse 5-7\, Wien\, Wien\, 1170\, Österreich
CATEGORIES:Trio (3er)
ORGANIZER;CN="Landesverband Wien Bowling":MAILTO:sekretariat@bowling-wien.at
END:VEVENT
BEGIN:VEVENT
DTSTART;TZID=Europe/Vienna:20250118T090000
DTEND;TZID=Europe/Vienna:20250118T090000
DTSTAMP:20260425T142940
CREATED:20240820T164613Z
LAST-MODIFIED:20240820T170234Z
UID:10002082-1737190800-1737190800@bowling-wien.at
SUMMARY:Trio - H2LL
DESCRIPTION:5. Runde
URL:https://bowling-wien.at/events/kategorie/allgemeine-klasse/trio-3er/
LOCATION:Plus Bowling Center\, Beheimgasse 5-7\, Wien\, Wien\, 1170\, Österreich
CATEGORIES:Trio (3er)
ORGANIZER;CN="Landesverband Wien Bowling":MAILTO:sekretariat@bowling-wien.at
END:VEVENT
BEGIN:VEVENT
DTSTART;TZID=Europe/Vienna:20250118T110000
DTEND;TZID=Europe/Vienna:20250118T110000
DTSTAMP:20260425T142940
CREATED:20240820T164613Z
LAST-MODIFIED:20240820T170234Z
UID:10002083-1737198000-1737198000@bowling-wien.at
SUMMARY:Trio - WLH
DESCRIPTION:5. Runde
URL:https://bowling-wien.at/events/kategorie/allgemeine-klasse/trio-3er/
LOCATION:Sportcenter Cumberland\, Cumberlandstraße 102\, Wien\, Wien\, 1140\, Österreich
CATEGORIES:Trio (3er)
ORGANIZER;CN="Landesverband Wien Bowling":MAILTO:sekretariat@bowling-wien.at
END:VEVENT
BEGIN:VEVENT
DTSTART;VALUE=DATE:20250119
DTEND;VALUE=DATE:20250120
DTSTAMP:20260425T142940
CREATED:20240820T165111Z
LAST-MODIFIED:20240820T170234Z
UID:10002182-1737244800-1737331199@bowling-wien.at
SUMMARY:STM Einzel Quali Runde 1
DESCRIPTION:1. Runde
URL:https://bowling-wien.at/events/kategorie/oeskb/
LOCATION:Plus Bowling Center\, Beheimgasse 5-7\, Wien\, Wien\, 1170\, Österreich
CATEGORIES:ÖSKB
END:VEVENT
BEGIN:VEVENT
DTSTART;VALUE=DATE:20250119
DTEND;VALUE=DATE:20250120
DTSTAMP:20260425T142940
CREATED:20240826T082320Z
LAST-MODIFIED:20240826T082320Z
UID:10002246-1737244800-1737331199@bowling-wien.at
SUMMARY:STM Einzel Quali Runde 1
DESCRIPTION:1. Runde
URL:https://bowling-wien.at/events/kategorie/oeskb/
LOCATION:Sportcenter Cumberland\, Cumberlandstraße 102\, Wien\, Wien\, 1140\, Österreich
CATEGORIES:ÖSKB
END:VEVENT
BEGIN:VEVENT
DTSTART;TZID=Europe/Vienna:20250120T183000
DTEND;TZID=Europe/Vienna:20250120T183000
DTSTAMP:20260425T142940
CREATED:20240820T164423Z
LAST-MODIFIED:20240820T170233Z
UID:10002047-1737397800-1737397800@bowling-wien.at
SUMMARY:Trio - DA1
DESCRIPTION:5. Runde
URL:https://bowling-wien.at/events/kategorie/allgemeine-klasse/trio-3er/
LOCATION:Plus Bowling Center\, Beheimgasse 5-7\, Wien\, Wien\, 1170\, Österreich
CATEGORIES:Trio (3er)
ORGANIZER;CN="Landesverband Wien Bowling":MAILTO:sekretariat@bowling-wien.at
END:VEVENT
BEGIN:VEVENT
DTSTART;TZID=Europe/Vienna:20250120T183000
DTEND;TZID=Europe/Vienna:20250120T183000
DTSTAMP:20260425T142940
CREATED:20240820T164423Z
LAST-MODIFIED:20240820T170234Z
UID:10002048-1737397800-1737397800@bowling-wien.at
SUMMARY:Trio - H1A
DESCRIPTION:5. Runde – Stadlau 2 setzt aus.
URL:https://bowling-wien.at/events/kategorie/allgemeine-klasse/trio-3er/
LOCATION:Plus Bowling Center\, Beheimgasse 5-7\, Wien\, Wien\, 1170\, Österreich
CATEGORIES:Trio (3er)
ORGANIZER;CN="Landesverband Wien Bowling":MAILTO:sekretariat@bowling-wien.at
END:VEVENT
BEGIN:VEVENT
DTSTART;TZID=Europe/Vienna:20250120T183000
DTEND;TZID=Europe/Vienna:20250120T183000
DTSTAMP:20260425T142940
CREATED:20240820T164423Z
LAST-MODIFIED:20240820T170234Z
UID:10002049-1737397800-1737397800@bowling-wien.at
SUMMARY:Trio - H1B
DESCRIPTION:5. Runde – Pegasus-Kobra 1 setzt aus.
URL:https://bowling-wien.at/events/kategorie/allgemeine-klasse/trio-3er/
LOCATION:Sportcenter Cumberland\, Cumberlandstraße 102\, Wien\, Wien\, 1140\, Österreich
CATEGORIES:Trio (3er)
ORGANIZER;CN="Landesverband Wien Bowling":MAILTO:sekretariat@bowling-wien.at
END:VEVENT
BEGIN:VEVENT
DTSTART;TZID=Europe/Vienna:20250120T183000
DTEND;TZID=Europe/Vienna:20250120T183000
DTSTAMP:20260425T142940
CREATED:20240820T164437Z
LAST-MODIFIED:20240820T170233Z
UID:10002050-1737397800-1737397800@bowling-wien.at
SUMMARY:Trio - H2A
DESCRIPTION:5. Runde – BC Kornland setzt aus.
URL:https://bowling-wien.at/events/kategorie/allgemeine-klasse/trio-3er/
LOCATION:Plus Bowling Center\, Beheimgasse 5-7\, Wien\, Wien\, 1170\, Österreich
CATEGORIES:Trio (3er)
ORGANIZER;CN="Landesverband Wien Bowling":MAILTO:sekretariat@bowling-wien.at
END:VEVENT
BEGIN:VEVENT
DTSTART;TZID=Europe/Vienna:20250122T183000
DTEND;TZID=Europe/Vienna:20250122T193000
DTSTAMP:20260425T142940
CREATED:20240830T074947Z
LAST-MODIFIED:20240830T074947Z
UID:10002261-1737570600-1737574200@bowling-wien.at
SUMMARY:Sekretariat
DESCRIPTION:
URL:https://bowling-wien.at/events/kategorie/sekretariat/
CATEGORIES:Sekretariat
END:VEVENT
BEGIN:VEVENT
DTSTART;TZID=Europe/Vienna:20250124T160000
DTEND;TZID=Europe/Vienna:20250124T160000
DTSTAMP:20260425T142940
CREATED:20240820T165459Z
LAST-MODIFIED:20240820T170233Z
UID:10002238-1737734400-1737734400@bowling-wien.at
SUMMARY:Special League
DESCRIPTION:5. Runde
URL:https://bowling-wien.at/events/kategorie/special-league/
LOCATION:Plus Bowling Center\, Beheimgasse 5-7\, Wien\, Wien\, 1170\, Österreich
CATEGORIES:Special League
ORGANIZER;CN="Landesverband Wien Bowling":MAILTO:sekretariat@bowling-wien.at
END:VEVENT
BEGIN:VEVENT
DTSTART;TZID=Europe/Vienna:20250125T110000
DTEND;TZID=Europe/Vienna:20250125T110000
DTSTAMP:20260425T142940
CREATED:20240820T164511Z
LAST-MODIFIED:20240820T170233Z
UID:10002064-1737802800-1737802800@bowling-wien.at
SUMMARY:Mixed Trio - MT1
DESCRIPTION:6. Runde – KSV Wr. Netze / Unistahl 1 setzt aus.
URL:https://bowling-wien.at/events/kategorie/allgemeine-klasse/mixed-trio-3er/
LOCATION:Sportcenter Cumberland\, Cumberlandstraße 102\, Wien\, Wien\, 1140\, Österreich
CATEGORIES:Mixed-Trio (3er)
ORGANIZER;CN="Landesverband Wien Bowling":MAILTO:sekretariat@bowling-wien.at
END:VEVENT
BEGIN:VEVENT
DTSTART;TZID=Europe/Vienna:20250127T183000
DTEND;TZID=Europe/Vienna:20250127T183000
DTSTAMP:20260425T142940
CREATED:20240820T164955Z
LAST-MODIFIED:20240820T170232Z
UID:10002158-1738002600-1738002600@bowling-wien.at
SUMMARY:4er - 1KL
DESCRIPTION:Runde 5+6
URL:https://bowling-wien.at/events/kategorie/allgemeine-klasse/4er-6er/
LOCATION:Plus Bowling Center\, Beheimgasse 5-7\, Wien\, Wien\, 1170\, Österreich
CATEGORIES:Head to Head (4er/6er)
ORGANIZER;CN="Landesverband Wien Bowling":MAILTO:sekretariat@bowling-wien.at
END:VEVENT
BEGIN:VEVENT
DTSTART;TZID=Europe/Vienna:20250127T183000
DTEND;TZID=Europe/Vienna:20250127T183000
DTSTAMP:20260425T142940
CREATED:20240820T164955Z
LAST-MODIFIED:20240820T170232Z
UID:10002159-1738002600-1738002600@bowling-wien.at
SUMMARY:4er - 2KL
DESCRIPTION:Runde 5+6
URL:https://bowling-wien.at/events/kategorie/allgemeine-klasse/4er-6er/
LOCATION:Plus Bowling Center\, Beheimgasse 5-7\, Wien\, Wien\, 1170\, Österreich
CATEGORIES:Head to Head (4er/6er)
ORGANIZER;CN="Landesverband Wien Bowling":MAILTO:sekretariat@bowling-wien.at
END:VEVENT
BEGIN:VEVENT
DTSTART;TZID=Europe/Vienna:20250129T180000
DTEND;TZID=Europe/Vienna:20250129T180000
DTSTAMP:20260425T142940
CREATED:20240820T165011Z
LAST-MODIFIED:20240820T170232Z
UID:10002164-1738173600-1738173600@bowling-wien.at
SUMMARY:Bowlingsportabzeichen
DESCRIPTION:
URL:https://bowling-wien.at/events/kategorie/allgemeine-klasse/bowlingsportabzeichen/
LOCATION:Sportcenter Cumberland\, Cumberlandstraße 102\, Wien\, Wien\, 1140\, Österreich
CATEGORIES:Bowlingsportabzeichen
ORGANIZER;CN="Landesverband Wien Bowling":MAILTO:sekretariat@bowling-wien.at
END:VEVENT
END:VCALENDAR