BEGIN:VCALENDAR
VERSION:2.0
PRODID:-//Landes Verband Wien Bowling - ECPv6.15.20//NONSGML v1.0//EN
CALSCALE:GREGORIAN
METHOD:PUBLISH
X-ORIGINAL-URL:https://bowling-wien.at
X-WR-CALDESC:Veranstaltungen für Landes Verband Wien Bowling
REFRESH-INTERVAL;VALUE=DURATION:PT1H
X-Robots-Tag:noindex
X-PUBLISHED-TTL:PT1H
BEGIN:VTIMEZONE
TZID:Europe/Vienna
BEGIN:DAYLIGHT
TZOFFSETFROM:+0100
TZOFFSETTO:+0200
TZNAME:CEST
DTSTART:20240331T010000
END:DAYLIGHT
BEGIN:STANDARD
TZOFFSETFROM:+0200
TZOFFSETTO:+0100
TZNAME:CET
DTSTART:20241027T010000
END:STANDARD
BEGIN:DAYLIGHT
TZOFFSETFROM:+0100
TZOFFSETTO:+0200
TZNAME:CEST
DTSTART:20250330T010000
END:DAYLIGHT
BEGIN:STANDARD
TZOFFSETFROM:+0200
TZOFFSETTO:+0100
TZNAME:CET
DTSTART:20251026T010000
END:STANDARD
BEGIN:DAYLIGHT
TZOFFSETFROM:+0100
TZOFFSETTO:+0200
TZNAME:CEST
DTSTART:20260329T010000
END:DAYLIGHT
BEGIN:STANDARD
TZOFFSETFROM:+0200
TZOFFSETTO:+0100
TZNAME:CET
DTSTART:20261025T010000
END:STANDARD
END:VTIMEZONE
BEGIN:VEVENT
DTSTART;VALUE=DATE:20250205
DTEND;VALUE=DATE:20250206
DTSTAMP:20260425T130325
CREATED:20240820T164321Z
LAST-MODIFIED:20240820T170232Z
UID:10002027-1738713600-1738799999@bowling-wien.at
SUMMARY:Nenntag LVWB ™M Mixed Quali
DESCRIPTION:
URL:https://bowling-wien.at/event/nenntag-lvwb-m-mixed-quali-2/
END:VEVENT
BEGIN:VEVENT
DTSTART;TZID=Europe/Vienna:20250208T090000
DTEND;TZID=Europe/Vienna:20250208T090000
DTSTAMP:20260425T130325
CREATED:20240820T164523Z
LAST-MODIFIED:20240820T170232Z
UID:10002065-1739005200-1739005200@bowling-wien.at
SUMMARY:Mixed Trio - MT1
DESCRIPTION:7. Runde – KSV Wr. Netze / Unistahl 2 setzt aus.
URL:https://bowling-wien.at/events/kategorie/allgemeine-klasse/mixed-trio-3er/
LOCATION:Plus Bowling Center\, Beheimgasse 5-7\, Wien\, Wien\, 1170\, Österreich
CATEGORIES:Mixed-Trio (3er)
ORGANIZER;CN="Landesverband Wien Bowling":MAILTO:sekretariat@bowling-wien.at
END:VEVENT
BEGIN:VEVENT
DTSTART;VALUE=DATE:20250209
DTEND;VALUE=DATE:20250210
DTSTAMP:20260425T130325
CREATED:20240820T165125Z
LAST-MODIFIED:20240820T170231Z
UID:10002183-1739059200-1739145599@bowling-wien.at
SUMMARY:STM Einzel Quali Runde 2
DESCRIPTION:2. Runde
URL:https://bowling-wien.at/events/kategorie/oeskb/
LOCATION:Plus Bowling Center\, Beheimgasse 5-7\, Wien\, Wien\, 1170\, Österreich
CATEGORIES:ÖSKB
END:VEVENT
BEGIN:VEVENT
DTSTART;VALUE=DATE:20250209
DTEND;VALUE=DATE:20250210
DTSTAMP:20260425T130325
CREATED:20240820T165125Z
LAST-MODIFIED:20240820T170232Z
UID:10002184-1739059200-1739145599@bowling-wien.at
SUMMARY:STM Einzel Quali Runde 2
DESCRIPTION:2. Runde
URL:https://bowling-wien.at/events/kategorie/oeskb/
LOCATION:Sportcenter Cumberland\, Cumberlandstraße 102\, Wien\, Wien\, 1140\, Österreich
CATEGORIES:ÖSKB
END:VEVENT
BEGIN:VEVENT
DTSTART;TZID=Europe/Vienna:20250210T183000
DTEND;TZID=Europe/Vienna:20250210T183000
DTSTAMP:20260425T130325
CREATED:20240820T164724Z
LAST-MODIFIED:20240820T170231Z
UID:10002109-1739212200-1739212200@bowling-wien.at
SUMMARY:Team - H1
DESCRIPTION:7. Runde
URL:https://bowling-wien.at/events/kategorie/allgemeine-klasse/team-4er-5er/
LOCATION:Plus Bowling Center\, Beheimgasse 5-7\, Wien\, Wien\, 1170\, Österreich
CATEGORIES:Team (4er/5er)
ORGANIZER;CN="Landesverband Wien Bowling":MAILTO:sekretariat@bowling-wien.at
END:VEVENT
BEGIN:VEVENT
DTSTART;TZID=Europe/Vienna:20250210T183000
DTEND;TZID=Europe/Vienna:20250210T183000
DTSTAMP:20260425T130325
CREATED:20240820T164724Z
LAST-MODIFIED:20240820T170231Z
UID:10002108-1739212200-1739212200@bowling-wien.at
SUMMARY:Team - DA1
DESCRIPTION:6. Runde
URL:https://bowling-wien.at/events/kategorie/allgemeine-klasse/team-4er-5er/
LOCATION:Plus Bowling Center\, Beheimgasse 5-7\, Wien\, Wien\, 1170\, Österreich
CATEGORIES:Team (4er/5er)
ORGANIZER;CN="Landesverband Wien Bowling":MAILTO:sekretariat@bowling-wien.at
END:VEVENT
BEGIN:VEVENT
DTSTART;TZID=Europe/Vienna:20250210T183000
DTEND;TZID=Europe/Vienna:20250210T183000
DTSTAMP:20260425T130325
CREATED:20240820T164738Z
LAST-MODIFIED:20240820T170231Z
UID:10002110-1739212200-1739212200@bowling-wien.at
SUMMARY:Team - H2
DESCRIPTION:7. Runde
URL:https://bowling-wien.at/events/kategorie/allgemeine-klasse/team-4er-5er/
LOCATION:Plus Bowling Center\, Beheimgasse 5-7\, Wien\, Wien\, 1170\, Österreich
CATEGORIES:Team (4er/5er)
ORGANIZER;CN="Landesverband Wien Bowling":MAILTO:sekretariat@bowling-wien.at
END:VEVENT
BEGIN:VEVENT
DTSTART;TZID=Europe/Vienna:20250212T183000
DTEND;TZID=Europe/Vienna:20250212T193000
DTSTAMP:20260425T130325
CREATED:20240830T074947Z
LAST-MODIFIED:20240830T074947Z
UID:10002262-1739385000-1739388600@bowling-wien.at
SUMMARY:Sekretariat
DESCRIPTION:
URL:https://bowling-wien.at/events/kategorie/sekretariat/
CATEGORIES:Sekretariat
END:VEVENT
BEGIN:VEVENT
DTSTART;VALUE=DATE:20250215
DTEND;VALUE=DATE:20250216
DTSTAMP:20260425T130325
CREATED:20240820T165223Z
LAST-MODIFIED:20240820T170231Z
UID:10002204-1739577600-1739663999@bowling-wien.at
SUMMARY:ÖM Senioren Einzel Herren A+B+C
DESCRIPTION:Semifinale
URL:https://bowling-wien.at/events/kategorie/senioren/
CATEGORIES:Senioren
END:VEVENT
BEGIN:VEVENT
DTSTART;VALUE=DATE:20250215
DTEND;VALUE=DATE:20250216
DTSTAMP:20260425T130325
CREATED:20240820T165223Z
LAST-MODIFIED:20240820T170231Z
UID:10002205-1739577600-1739663999@bowling-wien.at
SUMMARY:ÖM Senioren Einzel Damen 50+/60+
DESCRIPTION:Semifinale
URL:https://bowling-wien.at/events/kategorie/senioren/
CATEGORIES:Senioren
END:VEVENT
BEGIN:VEVENT
DTSTART;VALUE=DATE:20250216
DTEND;VALUE=DATE:20250217
DTSTAMP:20260425T130325
CREATED:20240820T165238Z
LAST-MODIFIED:20240820T170230Z
UID:10002206-1739664000-1739750399@bowling-wien.at
SUMMARY:ÖM Senioren Einzel Herren A+B+C
DESCRIPTION:Finale
URL:https://bowling-wien.at/events/kategorie/senioren/
CATEGORIES:Senioren
END:VEVENT
BEGIN:VEVENT
DTSTART;VALUE=DATE:20250216
DTEND;VALUE=DATE:20250217
DTSTAMP:20260425T130325
CREATED:20240820T165238Z
LAST-MODIFIED:20240820T170231Z
UID:10002207-1739664000-1739750399@bowling-wien.at
SUMMARY:ÖM Senioren Einzel Damen 50+/60+
DESCRIPTION:Finale
URL:https://bowling-wien.at/events/kategorie/senioren/
CATEGORIES:Senioren
END:VEVENT
BEGIN:VEVENT
DTSTART;VALUE=DATE:20250217
DTEND;VALUE=DATE:20250218
DTSTAMP:20260425T130325
CREATED:20240820T165147Z
LAST-MODIFIED:20240820T170230Z
UID:10002193-1739750400-1739836799@bowling-wien.at
SUMMARY:ÖM Mixed Runde 1 Tag 1
DESCRIPTION:1. Runde
URL:https://bowling-wien.at/events/kategorie/oeskb/
LOCATION:Plus Bowling Center\, Beheimgasse 5-7\, Wien\, Wien\, 1170\, Österreich
CATEGORIES:ÖSKB
END:VEVENT
BEGIN:VEVENT
DTSTART;VALUE=DATE:20250219
DTEND;VALUE=DATE:20250220
DTSTAMP:20260425T130325
CREATED:20240820T165147Z
LAST-MODIFIED:20240820T170230Z
UID:10002194-1739923200-1740009599@bowling-wien.at
SUMMARY:ÖM Mixed Runde 1 Tag 2
DESCRIPTION:1. Runde
URL:https://bowling-wien.at/events/kategorie/oeskb/
LOCATION:Sportcenter Cumberland\, Cumberlandstraße 102\, Wien\, Wien\, 1140\, Österreich
CATEGORIES:ÖSKB
END:VEVENT
BEGIN:VEVENT
DTSTART;TZID=Europe/Vienna:20250221T160000
DTEND;TZID=Europe/Vienna:20250221T160000
DTSTAMP:20260425T130325
CREATED:20240820T165500Z
LAST-MODIFIED:20240820T165950Z
UID:10002239-1740153600-1740153600@bowling-wien.at
SUMMARY:Special League
DESCRIPTION:6. Runde
URL:https://bowling-wien.at/events/kategorie/special-league/
LOCATION:Plus Bowling Center\, Beheimgasse 5-7\, Wien\, Wien\, 1170\, Österreich
CATEGORIES:Special League
ORGANIZER;CN="Landesverband Wien Bowling":MAILTO:sekretariat@bowling-wien.at
END:VEVENT
BEGIN:VEVENT
DTSTART;TZID=Europe/Vienna:20250223T100000
DTEND;TZID=Europe/Vienna:20250223T100000
DTSTAMP:20260425T130325
CREATED:20240820T164909Z
LAST-MODIFIED:20240820T165950Z
UID:10002144-1740304800-1740304800@bowling-wien.at
SUMMARY:Team - WLD
DESCRIPTION:4. Runde
URL:https://bowling-wien.at/events/kategorie/allgemeine-klasse/team-4er-5er/
LOCATION:Sportcenter Cumberland\, Cumberlandstraße 102\, Wien\, Wien\, 1140\, Österreich
CATEGORIES:Team (4er/5er)
ORGANIZER;CN="Landesverband Wien Bowling":MAILTO:sekretariat@bowling-wien.at
END:VEVENT
BEGIN:VEVENT
DTSTART;TZID=Europe/Vienna:20250223T100000
DTEND;TZID=Europe/Vienna:20250223T100000
DTSTAMP:20260425T130325
CREATED:20240820T164923Z
LAST-MODIFIED:20240820T165950Z
UID:10002145-1740304800-1740304800@bowling-wien.at
SUMMARY:Team - WLH
DESCRIPTION:5. Runde
URL:https://bowling-wien.at/events/kategorie/allgemeine-klasse/team-4er-5er/
LOCATION:Plus Bowling Center\, Beheimgasse 5-7\, Wien\, Wien\, 1170\, Österreich
CATEGORIES:Team (4er/5er)
ORGANIZER;CN="Landesverband Wien Bowling":MAILTO:sekretariat@bowling-wien.at
END:VEVENT
BEGIN:VEVENT
DTSTART;TZID=Europe/Vienna:20250223T100000
DTEND;TZID=Europe/Vienna:20250223T100000
DTSTAMP:20260425T130325
CREATED:20240820T164923Z
LAST-MODIFIED:20240820T165950Z
UID:10002146-1740304800-1740304800@bowling-wien.at
SUMMARY:Team - H2LL
DESCRIPTION:5. Runde
URL:https://bowling-wien.at/events/kategorie/allgemeine-klasse/team-4er-5er/
LOCATION:Plus Bowling Center\, Beheimgasse 5-7\, Wien\, Wien\, 1170\, Österreich
CATEGORIES:Team (4er/5er)
ORGANIZER;CN="Landesverband Wien Bowling":MAILTO:sekretariat@bowling-wien.at
END:VEVENT
BEGIN:VEVENT
DTSTART;TZID=Europe/Vienna:20250224T183000
DTEND;TZID=Europe/Vienna:20250224T183000
DTSTAMP:20260425T130325
CREATED:20240820T164438Z
LAST-MODIFIED:20240820T165949Z
UID:10002051-1740421800-1740421800@bowling-wien.at
SUMMARY:Trio - DA1
DESCRIPTION:6. Runde
URL:https://bowling-wien.at/events/kategorie/allgemeine-klasse/trio-3er/
LOCATION:Plus Bowling Center\, Beheimgasse 5-7\, Wien\, Wien\, 1170\, Österreich
CATEGORIES:Trio (3er)
ORGANIZER;CN="Landesverband Wien Bowling":MAILTO:sekretariat@bowling-wien.at
END:VEVENT
BEGIN:VEVENT
DTSTART;TZID=Europe/Vienna:20250224T183000
DTEND;TZID=Europe/Vienna:20250224T183000
DTSTAMP:20260425T130325
CREATED:20240820T164438Z
LAST-MODIFIED:20240820T165949Z
UID:10002052-1740421800-1740421800@bowling-wien.at
SUMMARY:Trio - H1A
DESCRIPTION:6. Runde – BC Tyrolia 2 setzt aus.
URL:https://bowling-wien.at/events/kategorie/allgemeine-klasse/trio-3er/
LOCATION:Sportcenter Cumberland\, Cumberlandstraße 102\, Wien\, Wien\, 1140\, Österreich
CATEGORIES:Trio (3er)
ORGANIZER;CN="Landesverband Wien Bowling":MAILTO:sekretariat@bowling-wien.at
END:VEVENT
BEGIN:VEVENT
DTSTART;TZID=Europe/Vienna:20250224T183000
DTEND;TZID=Europe/Vienna:20250224T183000
DTSTAMP:20260425T130325
CREATED:20240820T164438Z
LAST-MODIFIED:20240820T165949Z
UID:10002053-1740421800-1740421800@bowling-wien.at
SUMMARY:Trio - H1B
DESCRIPTION:6. Runde – Stadlau 4 setzt aus.
URL:https://bowling-wien.at/events/kategorie/allgemeine-klasse/trio-3er/
LOCATION:Plus Bowling Center\, Beheimgasse 5-7\, Wien\, Wien\, 1170\, Österreich
CATEGORIES:Trio (3er)
ORGANIZER;CN="Landesverband Wien Bowling":MAILTO:sekretariat@bowling-wien.at
END:VEVENT
BEGIN:VEVENT
DTSTART;TZID=Europe/Vienna:20250224T183000
DTEND;TZID=Europe/Vienna:20250224T183000
DTSTAMP:20260425T130325
CREATED:20240820T164438Z
LAST-MODIFIED:20240820T165950Z
UID:10002054-1740421800-1740421800@bowling-wien.at
SUMMARY:Trio - H2A
DESCRIPTION:6. Runde – SC AUA setzt aus.
URL:https://bowling-wien.at/events/kategorie/allgemeine-klasse/trio-3er/
LOCATION:Plus Bowling Center\, Beheimgasse 5-7\, Wien\, Wien\, 1170\, Österreich
CATEGORIES:Trio (3er)
ORGANIZER;CN="Landesverband Wien Bowling":MAILTO:sekretariat@bowling-wien.at
END:VEVENT
BEGIN:VEVENT
DTSTART;TZID=Europe/Vienna:20250226T183000
DTEND;TZID=Europe/Vienna:20250226T193000
DTSTAMP:20260425T130325
CREATED:20240830T074947Z
LAST-MODIFIED:20240830T074947Z
UID:10002263-1740594600-1740598200@bowling-wien.at
SUMMARY:Sekretariat
DESCRIPTION:
URL:https://bowling-wien.at/events/kategorie/sekretariat/
CATEGORIES:Sekretariat
END:VEVENT
END:VCALENDAR