BEGIN:VCALENDAR
VERSION:2.0
PRODID:-//Landes Verband Wien Bowling - ECPv6.15.20//NONSGML v1.0//EN
CALSCALE:GREGORIAN
METHOD:PUBLISH
X-ORIGINAL-URL:https://bowling-wien.at
X-WR-CALDESC:Veranstaltungen für Landes Verband Wien Bowling
REFRESH-INTERVAL;VALUE=DURATION:PT1H
X-Robots-Tag:noindex
X-PUBLISHED-TTL:PT1H
BEGIN:VTIMEZONE
TZID:Europe/Vienna
BEGIN:DAYLIGHT
TZOFFSETFROM:+0100
TZOFFSETTO:+0200
TZNAME:CEST
DTSTART:20250330T010000
END:DAYLIGHT
BEGIN:STANDARD
TZOFFSETFROM:+0200
TZOFFSETTO:+0100
TZNAME:CET
DTSTART:20251026T010000
END:STANDARD
BEGIN:DAYLIGHT
TZOFFSETFROM:+0100
TZOFFSETTO:+0200
TZNAME:CEST
DTSTART:20260329T010000
END:DAYLIGHT
BEGIN:STANDARD
TZOFFSETFROM:+0200
TZOFFSETTO:+0100
TZNAME:CET
DTSTART:20261025T010000
END:STANDARD
BEGIN:DAYLIGHT
TZOFFSETFROM:+0100
TZOFFSETTO:+0200
TZNAME:CEST
DTSTART:20270328T010000
END:DAYLIGHT
BEGIN:STANDARD
TZOFFSETFROM:+0200
TZOFFSETTO:+0100
TZNAME:CET
DTSTART:20271031T010000
END:STANDARD
END:VTIMEZONE
BEGIN:VEVENT
DTSTART;TZID=Europe/Vienna:20260107T183000
DTEND;TZID=Europe/Vienna:20260107T193000
DTSTAMP:20260421T153722
CREATED:20250824T142008Z
LAST-MODIFIED:20250824T143315Z
UID:10002593-1767810600-1767814200@bowling-wien.at
SUMMARY:Sekretariat
DESCRIPTION:
URL:https://bowling-wien.at/events/kategorie/sekretariat/
CATEGORIES:Sekretariat
END:VEVENT
BEGIN:VEVENT
DTSTART;TZID=Europe/Vienna:20260110T090000
DTEND;TZID=Europe/Vienna:20260110T090000
DTSTAMP:20260421T153722
CREATED:20250824T091323Z
LAST-MODIFIED:20250824T095708Z
UID:10002329-1768035600-1768035600@bowling-wien.at
SUMMARY:Mixed Trio - MT1
DESCRIPTION:5. Runde
URL:https://bowling-wien.at/events/kategorie/allgemeine-klasse/mixed-trio-3er/
LOCATION:Plus Bowling Center\, Beheimgasse 5-7\, Wien\, Wien\, 1170\, Österreich
CATEGORIES:Mixed-Trio (3er)
ORGANIZER;CN="Landesverband Wien Bowling":MAILTO:sekretariat@bowling-wien.at
END:VEVENT
BEGIN:VEVENT
DTSTART;TZID=Europe/Vienna:20260110T090000
DTEND;TZID=Europe/Vienna:20260110T090000
DTSTAMP:20260421T153722
CREATED:20250824T091323Z
LAST-MODIFIED:20250824T095708Z
UID:10002330-1768035600-1768035600@bowling-wien.at
SUMMARY:Mixed Trio - MT2
DESCRIPTION:5. Runde
URL:https://bowling-wien.at/events/kategorie/allgemeine-klasse/mixed-trio-3er/
LOCATION:Plus Bowling Center\, Beheimgasse 5-7\, Wien\, Wien\, 1170\, Österreich
CATEGORIES:Mixed-Trio (3er)
ORGANIZER;CN="Landesverband Wien Bowling":MAILTO:sekretariat@bowling-wien.at
END:VEVENT
BEGIN:VEVENT
DTSTART;VALUE=DATE:20260111
DTEND;VALUE=DATE:20260112
DTSTAMP:20260421T153723
CREATED:20250824T092513Z
LAST-MODIFIED:20250824T110352Z
UID:10002456-1768089600-1768175999@bowling-wien.at
SUMMARY:STM Einzel Quali Runde 2
DESCRIPTION:2. Runde
URL:https://bowling-wien.at/events/kategorie/allgemeine-klasse/
LOCATION:Plus Bowling Center\, Beheimgasse 5-7\, Wien\, Wien\, 1170\, Österreich
CATEGORIES:Allgemeine Klasse,Qualifikation für STM Einzel
END:VEVENT
BEGIN:VEVENT
DTSTART;VALUE=DATE:20260111
DTEND;VALUE=DATE:20260112
DTSTAMP:20260421T153723
CREATED:20250824T092513Z
LAST-MODIFIED:20250824T110404Z
UID:10002457-1768089600-1768175999@bowling-wien.at
SUMMARY:STM Einzel Quali Runde 2
DESCRIPTION:2. Runde
URL:https://bowling-wien.at/events/kategorie/allgemeine-klasse/
LOCATION:Sportcenter Cumberland\, Cumberlandstraße 102\, Wien\, Wien\, 1140\, Österreich
CATEGORIES:Allgemeine Klasse,Qualifikation für STM Einzel
END:VEVENT
BEGIN:VEVENT
DTSTART;TZID=Europe/Vienna:20260112T183000
DTEND;TZID=Europe/Vienna:20260112T183000
DTSTAMP:20260421T153723
CREATED:20250824T091607Z
LAST-MODIFIED:20250824T095707Z
UID:10002374-1768242600-1768242600@bowling-wien.at
SUMMARY:Team - DA1
DESCRIPTION:6. Runde
URL:https://bowling-wien.at/events/kategorie/allgemeine-klasse/team-4er-5er/
LOCATION:Plus Bowling Center\, Beheimgasse 5-7\, Wien\, Wien\, 1170\, Österreich
CATEGORIES:Team (4er/5er)
ORGANIZER;CN="Landesverband Wien Bowling":MAILTO:sekretariat@bowling-wien.at
END:VEVENT
BEGIN:VEVENT
DTSTART;TZID=Europe/Vienna:20260112T183000
DTEND;TZID=Europe/Vienna:20260112T183000
DTSTAMP:20260421T153723
CREATED:20250824T091607Z
LAST-MODIFIED:20250824T095707Z
UID:10002375-1768242600-1768242600@bowling-wien.at
SUMMARY:Team - H1
DESCRIPTION:6. Runde
URL:https://bowling-wien.at/events/kategorie/allgemeine-klasse/team-4er-5er/
LOCATION:Sportcenter Cumberland\, Cumberlandstraße 102\, Wien\, Wien\, 1140\, Österreich
CATEGORIES:Team (4er/5er)
ORGANIZER;CN="Landesverband Wien Bowling":MAILTO:sekretariat@bowling-wien.at
END:VEVENT
BEGIN:VEVENT
DTSTART;TZID=Europe/Vienna:20260112T183000
DTEND;TZID=Europe/Vienna:20260112T183000
DTSTAMP:20260421T153723
CREATED:20250824T091607Z
LAST-MODIFIED:20250824T095707Z
UID:10002376-1768242600-1768242600@bowling-wien.at
SUMMARY:Team - H2
DESCRIPTION:6. Runde
URL:https://bowling-wien.at/events/kategorie/allgemeine-klasse/team-4er-5er/
LOCATION:Plus Bowling Center\, Beheimgasse 5-7\, Wien\, Wien\, 1170\, Österreich
CATEGORIES:Team (4er/5er)
ORGANIZER;CN="Landesverband Wien Bowling":MAILTO:sekretariat@bowling-wien.at
END:VEVENT
BEGIN:VEVENT
DTSTART;VALUE=DATE:20260114
DTEND;VALUE=DATE:20260115
DTSTAMP:20260421T153723
CREATED:20250824T091026Z
LAST-MODIFIED:20250824T095707Z
UID:10002280-1768348800-1768435199@bowling-wien.at
SUMMARY:Nenntag LVWB Bowlingsportabzeichen (BSA)
DESCRIPTION:
URL:https://bowling-wien.at/events/kategorie/allgemeine-klasse/bowlingsportabzeichen/
CATEGORIES:Bowlingsportabzeichen
END:VEVENT
BEGIN:VEVENT
DTSTART;TZID=Europe/Vienna:20260118T100000
DTEND;TZID=Europe/Vienna:20260118T100000
DTSTAMP:20260421T153723
CREATED:20250824T092333Z
LAST-MODIFIED:20250824T095707Z
UID:10002410-1768730400-1768730400@bowling-wien.at
SUMMARY:Team - WLD
DESCRIPTION:4. Runde
URL:https://bowling-wien.at/events/kategorie/allgemeine-klasse/team-4er-5er/
LOCATION:Sportcenter Cumberland\, Cumberlandstraße 102\, Wien\, Wien\, 1140\, Österreich
CATEGORIES:Team (4er/5er)
ORGANIZER;CN="Landesverband Wien Bowling":MAILTO:sekretariat@bowling-wien.at
END:VEVENT
BEGIN:VEVENT
DTSTART;TZID=Europe/Vienna:20260118T100000
DTEND;TZID=Europe/Vienna:20260118T100000
DTSTAMP:20260421T153723
CREATED:20250824T092333Z
LAST-MODIFIED:20250824T095707Z
UID:10002411-1768730400-1768730400@bowling-wien.at
SUMMARY:Team - WLH
DESCRIPTION:4. Runde
URL:https://bowling-wien.at/events/kategorie/allgemeine-klasse/team-4er-5er/
LOCATION:Plus Bowling Center\, Beheimgasse 5-7\, Wien\, Wien\, 1170\, Österreich
CATEGORIES:Team (4er/5er)
ORGANIZER;CN="Landesverband Wien Bowling":MAILTO:sekretariat@bowling-wien.at
END:VEVENT
BEGIN:VEVENT
DTSTART;TZID=Europe/Vienna:20260118T100000
DTEND;TZID=Europe/Vienna:20260118T100000
DTSTAMP:20260421T153723
CREATED:20250824T092333Z
LAST-MODIFIED:20250824T095707Z
UID:10002412-1768730400-1768730400@bowling-wien.at
SUMMARY:Team - H2LL
DESCRIPTION:4. Runde
URL:https://bowling-wien.at/events/kategorie/allgemeine-klasse/team-4er-5er/
LOCATION:Plus Bowling Center\, Beheimgasse 5-7\, Wien\, Wien\, 1170\, Österreich
CATEGORIES:Team (4er/5er)
ORGANIZER;CN="Landesverband Wien Bowling":MAILTO:sekretariat@bowling-wien.at
END:VEVENT
BEGIN:VEVENT
DTSTART;TZID=Europe/Vienna:20260119T183000
DTEND;TZID=Europe/Vienna:20260119T183000
DTSTAMP:20260421T153723
CREATED:20250824T091607Z
LAST-MODIFIED:20250824T095707Z
UID:10002377-1768847400-1768847400@bowling-wien.at
SUMMARY:Team - DA1
DESCRIPTION:7. Runde – Sportunion BC Funk 3 setzt aus.
URL:https://bowling-wien.at/events/kategorie/allgemeine-klasse/team-4er-5er/
LOCATION:Sportcenter Cumberland\, Cumberlandstraße 102\, Wien\, Wien\, 1140\, Österreich
CATEGORIES:Team (4er/5er)
ORGANIZER;CN="Landesverband Wien Bowling":MAILTO:sekretariat@bowling-wien.at
END:VEVENT
BEGIN:VEVENT
DTSTART;TZID=Europe/Vienna:20260119T183000
DTEND;TZID=Europe/Vienna:20260119T183000
DTSTAMP:20260421T153723
CREATED:20250824T091607Z
LAST-MODIFIED:20250824T095707Z
UID:10002378-1768847400-1768847400@bowling-wien.at
SUMMARY:Team - H1
DESCRIPTION:7. Runde
URL:https://bowling-wien.at/events/kategorie/allgemeine-klasse/team-4er-5er/
LOCATION:Plus Bowling Center\, Beheimgasse 5-7\, Wien\, Wien\, 1170\, Österreich
CATEGORIES:Team (4er/5er)
ORGANIZER;CN="Landesverband Wien Bowling":MAILTO:sekretariat@bowling-wien.at
END:VEVENT
BEGIN:VEVENT
DTSTART;TZID=Europe/Vienna:20260119T183000
DTEND;TZID=Europe/Vienna:20260119T183000
DTSTAMP:20260421T153723
CREATED:20250824T091746Z
LAST-MODIFIED:20250824T095706Z
UID:10002379-1768847400-1768847400@bowling-wien.at
SUMMARY:Team - H2
DESCRIPTION:7. Runde – BC Etoile 2 setzt aus.
URL:https://bowling-wien.at/events/kategorie/allgemeine-klasse/team-4er-5er/
LOCATION:Sportcenter Cumberland\, Cumberlandstraße 102\, Wien\, Wien\, 1140\, Österreich
CATEGORIES:Team (4er/5er)
ORGANIZER;CN="Landesverband Wien Bowling":MAILTO:sekretariat@bowling-wien.at
END:VEVENT
BEGIN:VEVENT
DTSTART;TZID=Europe/Vienna:20260121T183000
DTEND;TZID=Europe/Vienna:20260121T193000
DTSTAMP:20260421T153723
CREATED:20250824T142008Z
LAST-MODIFIED:20250824T143315Z
UID:10002594-1769020200-1769023800@bowling-wien.at
SUMMARY:Sekretariat
DESCRIPTION:
URL:https://bowling-wien.at/events/kategorie/sekretariat/
CATEGORIES:Sekretariat
END:VEVENT
BEGIN:VEVENT
DTSTART;TZID=Europe/Vienna:20260124T090000
DTEND;TZID=Europe/Vienna:20260124T090000
DTSTAMP:20260421T153723
CREATED:20250824T091323Z
LAST-MODIFIED:20250824T095706Z
UID:10002331-1769245200-1769245200@bowling-wien.at
SUMMARY:Mixed Trio - MT1
DESCRIPTION:6. Runde
URL:https://bowling-wien.at/events/kategorie/allgemeine-klasse/mixed-trio-3er/
LOCATION:Plus Bowling Center\, Beheimgasse 5-7\, Wien\, Wien\, 1170\, Österreich
CATEGORIES:Mixed-Trio (3er)
ORGANIZER;CN="Landesverband Wien Bowling":MAILTO:sekretariat@bowling-wien.at
END:VEVENT
BEGIN:VEVENT
DTSTART;TZID=Europe/Vienna:20260124T090000
DTEND;TZID=Europe/Vienna:20260124T090000
DTSTAMP:20260421T153723
CREATED:20250824T091323Z
LAST-MODIFIED:20250824T095706Z
UID:10002332-1769245200-1769245200@bowling-wien.at
SUMMARY:Mixed Trio - MT2
DESCRIPTION:6. Runde
URL:https://bowling-wien.at/events/kategorie/allgemeine-klasse/mixed-trio-3er/
LOCATION:Plus Bowling Center\, Beheimgasse 5-7\, Wien\, Wien\, 1170\, Österreich
CATEGORIES:Mixed-Trio (3er)
ORGANIZER;CN="Landesverband Wien Bowling":MAILTO:sekretariat@bowling-wien.at
END:VEVENT
BEGIN:VEVENT
DTSTART;TZID=Europe/Vienna:20260125T100000
DTEND;TZID=Europe/Vienna:20260125T100000
DTSTAMP:20260421T153723
CREATED:20250824T091404Z
LAST-MODIFIED:20260111T204312Z
UID:10002350-1769335200-1769335200@bowling-wien.at
SUMMARY:Trio - H2LL
DESCRIPTION:5. Runde
URL:https://bowling-wien.at/events/kategorie/allgemeine-klasse/trio-3er/
LOCATION:Plus Bowling Center\, Beheimgasse 5-7\, Wien\, Wien\, 1170\, Österreich
CATEGORIES:Trio (3er)
ORGANIZER;CN="Landesverband Wien Bowling":MAILTO:sekretariat@bowling-wien.at
END:VEVENT
BEGIN:VEVENT
DTSTART;TZID=Europe/Vienna:20260125T100000
DTEND;TZID=Europe/Vienna:20260125T100000
DTSTAMP:20260421T153723
CREATED:20250824T091404Z
LAST-MODIFIED:20260111T205510Z
UID:10002351-1769335200-1769335200@bowling-wien.at
SUMMARY:Trio - WLH
DESCRIPTION:5. Runde
URL:https://bowling-wien.at/events/kategorie/allgemeine-klasse/trio-3er/
LOCATION:Sportcenter Cumberland\, Cumberlandstraße 102\, Wien\, Wien\, 1140\, Österreich
CATEGORIES:Trio (3er)
ORGANIZER;CN="Landesverband Wien Bowling":MAILTO:sekretariat@bowling-wien.at
END:VEVENT
BEGIN:VEVENT
DTSTART;TZID=Europe/Vienna:20260125T100000
DTEND;TZID=Europe/Vienna:20260125T100000
DTSTAMP:20260421T153723
CREATED:20250824T091404Z
LAST-MODIFIED:20250824T095706Z
UID:10002349-1769335200-1769335200@bowling-wien.at
SUMMARY:Trio - WLD
DESCRIPTION:5. Runde
URL:https://bowling-wien.at/events/kategorie/allgemeine-klasse/trio-3er/
LOCATION:Plus Bowling Center\, Beheimgasse 5-7\, Wien\, Wien\, 1170\, Österreich
CATEGORIES:Trio (3er)
ORGANIZER;CN="Landesverband Wien Bowling":MAILTO:sekretariat@bowling-wien.at
END:VEVENT
BEGIN:VEVENT
DTSTART;TZID=Europe/Vienna:20260126T183000
DTEND;TZID=Europe/Vienna:20260126T183000
DTSTAMP:20260421T153723
CREATED:20250824T091210Z
LAST-MODIFIED:20250824T095706Z
UID:10002313-1769452200-1769452200@bowling-wien.at
SUMMARY:Trio - H1B
DESCRIPTION:6. Runde – BC Pinteufel 1 setzt aus.
URL:https://bowling-wien.at/events/kategorie/allgemeine-klasse/trio-3er/
LOCATION:Sportcenter Cumberland\, Cumberlandstraße 102\, Wien\, Wien\, 1140\, Österreich
CATEGORIES:Trio (3er)
ORGANIZER;CN="Landesverband Wien Bowling":MAILTO:sekretariat@bowling-wien.at
END:VEVENT
BEGIN:VEVENT
DTSTART;TZID=Europe/Vienna:20260126T183000
DTEND;TZID=Europe/Vienna:20260126T183000
DTSTAMP:20260421T153723
CREATED:20250824T091210Z
LAST-MODIFIED:20250824T095706Z
UID:10002311-1769452200-1769452200@bowling-wien.at
SUMMARY:Trio - DA1
DESCRIPTION:6. Runde
URL:https://bowling-wien.at/events/kategorie/allgemeine-klasse/trio-3er/
LOCATION:Plus Bowling Center\, Beheimgasse 5-7\, Wien\, Wien\, 1170\, Österreich
CATEGORIES:Trio (3er)
ORGANIZER;CN="Landesverband Wien Bowling":MAILTO:sekretariat@bowling-wien.at
END:VEVENT
BEGIN:VEVENT
DTSTART;TZID=Europe/Vienna:20260126T183000
DTEND;TZID=Europe/Vienna:20260126T183000
DTSTAMP:20260421T153723
CREATED:20250824T091210Z
LAST-MODIFIED:20250824T095706Z
UID:10002312-1769452200-1769452200@bowling-wien.at
SUMMARY:Trio - H1A
DESCRIPTION:6. Runde
URL:https://bowling-wien.at/events/kategorie/allgemeine-klasse/trio-3er/
LOCATION:Plus Bowling Center\, Beheimgasse 5-7\, Wien\, Wien\, 1170\, Österreich
CATEGORIES:Trio (3er)
ORGANIZER;CN="Landesverband Wien Bowling":MAILTO:sekretariat@bowling-wien.at
END:VEVENT
BEGIN:VEVENT
DTSTART;TZID=Europe/Vienna:20260126T183000
DTEND;TZID=Europe/Vienna:20260126T183000
DTSTAMP:20260421T153723
CREATED:20250824T091247Z
LAST-MODIFIED:20250824T095705Z
UID:10002314-1769452200-1769452200@bowling-wien.at
SUMMARY:Trio - H2A
DESCRIPTION:6. Runde
URL:https://bowling-wien.at/events/kategorie/allgemeine-klasse/trio-3er/
LOCATION:Plus Bowling Center\, Beheimgasse 5-7\, Wien\, Wien\, 1170\, Österreich
CATEGORIES:Trio (3er)
ORGANIZER;CN="Landesverband Wien Bowling":MAILTO:sekretariat@bowling-wien.at
END:VEVENT
BEGIN:VEVENT
DTSTART;TZID=Europe/Vienna:20260126T183000
DTEND;TZID=Europe/Vienna:20260126T183000
DTSTAMP:20260421T153723
CREATED:20250824T091247Z
LAST-MODIFIED:20250824T095705Z
UID:10002315-1769452200-1769452200@bowling-wien.at
SUMMARY:Trio - H2B
DESCRIPTION:6. Runde
URL:https://bowling-wien.at/events/kategorie/allgemeine-klasse/trio-3er/
LOCATION:Plus Bowling Center\, Beheimgasse 5-7\, Wien\, Wien\, 1170\, Österreich
CATEGORIES:Trio (3er)
ORGANIZER;CN="Landesverband Wien Bowling":MAILTO:sekretariat@bowling-wien.at
END:VEVENT
END:VCALENDAR