BEGIN:VCALENDAR
VERSION:2.0
PRODID:-//Landes Verband Wien Bowling - ECPv6.15.20//NONSGML v1.0//EN
CALSCALE:GREGORIAN
METHOD:PUBLISH
X-ORIGINAL-URL:https://bowling-wien.at
X-WR-CALDESC:Veranstaltungen für Landes Verband Wien Bowling
REFRESH-INTERVAL;VALUE=DURATION:PT1H
X-Robots-Tag:noindex
X-PUBLISHED-TTL:PT1H
BEGIN:VTIMEZONE
TZID:Europe/Vienna
BEGIN:DAYLIGHT
TZOFFSETFROM:+0100
TZOFFSETTO:+0200
TZNAME:CEST
DTSTART:20250330T010000
END:DAYLIGHT
BEGIN:STANDARD
TZOFFSETFROM:+0200
TZOFFSETTO:+0100
TZNAME:CET
DTSTART:20251026T010000
END:STANDARD
BEGIN:DAYLIGHT
TZOFFSETFROM:+0100
TZOFFSETTO:+0200
TZNAME:CEST
DTSTART:20260329T010000
END:DAYLIGHT
BEGIN:STANDARD
TZOFFSETFROM:+0200
TZOFFSETTO:+0100
TZNAME:CET
DTSTART:20261025T010000
END:STANDARD
BEGIN:DAYLIGHT
TZOFFSETFROM:+0100
TZOFFSETTO:+0200
TZNAME:CEST
DTSTART:20270328T010000
END:DAYLIGHT
BEGIN:STANDARD
TZOFFSETFROM:+0200
TZOFFSETTO:+0100
TZNAME:CET
DTSTART:20271031T010000
END:STANDARD
END:VTIMEZONE
BEGIN:VEVENT
DTSTART;VALUE=DATE:20260301
DTEND;VALUE=DATE:20260302
DTSTAMP:20260421T124803
CREATED:20250824T092518Z
LAST-MODIFIED:20250824T110323Z
UID:10002459-1772323200-1772409599@bowling-wien.at
SUMMARY:STM Einzel
DESCRIPTION:Finale
URL:https://bowling-wien.at/events/kategorie/oeskb/
CATEGORIES:ÖSKB,Qualifikation für STM Einzel
END:VEVENT
BEGIN:VEVENT
DTSTART;TZID=Europe/Vienna:20260302T183000
DTEND;TZID=Europe/Vienna:20260302T183000
DTSTAMP:20260421T124803
CREATED:20250824T091247Z
LAST-MODIFIED:20250824T095703Z
UID:10002316-1772476200-1772476200@bowling-wien.at
SUMMARY:Trio - DA1
DESCRIPTION:7. Runde
URL:https://bowling-wien.at/events/kategorie/allgemeine-klasse/trio-3er/
LOCATION:Sportcenter Cumberland\, Cumberlandstraße 102\, Wien\, Wien\, 1140\, Österreich
CATEGORIES:Trio (3er)
ORGANIZER;CN="Landesverband Wien Bowling":MAILTO:sekretariat@bowling-wien.at
END:VEVENT
BEGIN:VEVENT
DTSTART;TZID=Europe/Vienna:20260302T183000
DTEND;TZID=Europe/Vienna:20260302T183000
DTSTAMP:20260421T124803
CREATED:20250824T091247Z
LAST-MODIFIED:20250824T095703Z
UID:10002317-1772476200-1772476200@bowling-wien.at
SUMMARY:Trio - H1A
DESCRIPTION:7. Runde
URL:https://bowling-wien.at/events/kategorie/allgemeine-klasse/trio-3er/
LOCATION:Plus Bowling Center\, Beheimgasse 5-7\, Wien\, Wien\, 1170\, Österreich
CATEGORIES:Trio (3er)
ORGANIZER;CN="Landesverband Wien Bowling":MAILTO:sekretariat@bowling-wien.at
END:VEVENT
BEGIN:VEVENT
DTSTART;TZID=Europe/Vienna:20260302T183000
DTEND;TZID=Europe/Vienna:20260302T183000
DTSTAMP:20260421T124803
CREATED:20250824T091248Z
LAST-MODIFIED:20250824T095703Z
UID:10002318-1772476200-1772476200@bowling-wien.at
SUMMARY:Trio - H1B
DESCRIPTION:7. Runde – BSC Phönix Wien 2 setzt aus.
URL:https://bowling-wien.at/events/kategorie/allgemeine-klasse/trio-3er/
LOCATION:Plus Bowling Center\, Beheimgasse 5-7\, Wien\, Wien\, 1170\, Österreich
CATEGORIES:Trio (3er)
ORGANIZER;CN="Landesverband Wien Bowling":MAILTO:sekretariat@bowling-wien.at
END:VEVENT
BEGIN:VEVENT
DTSTART;TZID=Europe/Vienna:20260302T183000
DTEND;TZID=Europe/Vienna:20260302T183000
DTSTAMP:20260421T124803
CREATED:20250824T091302Z
LAST-MODIFIED:20250824T095703Z
UID:10002319-1772476200-1772476200@bowling-wien.at
SUMMARY:Trio - H2A
DESCRIPTION:7. Runde
URL:https://bowling-wien.at/events/kategorie/allgemeine-klasse/trio-3er/
LOCATION:Sportcenter Cumberland\, Cumberlandstraße 102\, Wien\, Wien\, 1140\, Österreich
CATEGORIES:Trio (3er)
ORGANIZER;CN="Landesverband Wien Bowling":MAILTO:sekretariat@bowling-wien.at
END:VEVENT
BEGIN:VEVENT
DTSTART;TZID=Europe/Vienna:20260302T183000
DTEND;TZID=Europe/Vienna:20260302T183000
DTSTAMP:20260421T124803
CREATED:20250824T091303Z
LAST-MODIFIED:20250824T095703Z
UID:10002320-1772476200-1772476200@bowling-wien.at
SUMMARY:Trio - H2B
DESCRIPTION:7. Runde
URL:https://bowling-wien.at/events/kategorie/allgemeine-klasse/trio-3er/
LOCATION:Plus Bowling Center\, Beheimgasse 5-7\, Wien\, Wien\, 1170\, Österreich
CATEGORIES:Trio (3er)
ORGANIZER;CN="Landesverband Wien Bowling":MAILTO:sekretariat@bowling-wien.at
END:VEVENT
BEGIN:VEVENT
DTSTART;VALUE=DATE:20260304
DTEND;VALUE=DATE:20260305
DTSTAMP:20260421T124803
CREATED:20250824T091026Z
LAST-MODIFIED:20250824T111331Z
UID:10002282-1772582400-1772668799@bowling-wien.at
SUMMARY:Nenntag LVWB WrM Senioren Einzel + Doppel
DESCRIPTION:
URL:https://bowling-wien.at/event/nenntag-lvwb-wm-senioren-einzel-doppel-3/
END:VEVENT
BEGIN:VEVENT
DTSTART;VALUE=DATE:20260304
DTEND;VALUE=DATE:20260305
DTSTAMP:20260421T124803
CREATED:20250824T092534Z
LAST-MODIFIED:20250824T104349Z
UID:10002468-1772582400-1772668799@bowling-wien.at
SUMMARY:ÖM Mixed Runde 2 Tag 1
DESCRIPTION:2. Runde
URL:https://bowling-wien.at/events/kategorie/allgemeine-klasse/oem-mixed-qualifikation/
LOCATION:Sportcenter Cumberland\, Cumberlandstraße 102\, Wien\, Wien\, 1140\, Österreich
CATEGORIES:Qualifikation für ÖM Mixed
END:VEVENT
BEGIN:VEVENT
DTSTART;VALUE=DATE:20260307
DTEND;VALUE=DATE:20260308
DTSTAMP:20260421T124803
CREATED:20250824T092713Z
LAST-MODIFIED:20250824T104402Z
UID:10002469-1772841600-1772927999@bowling-wien.at
SUMMARY:ÖM Mixed Runde 2 Tag 2
DESCRIPTION:2. Runde
URL:https://bowling-wien.at/events/kategorie/allgemeine-klasse/oem-mixed-qualifikation/
LOCATION:Plus Bowling Center\, Beheimgasse 5-7\, Wien\, Wien\, 1170\, Österreich
CATEGORIES:Qualifikation für ÖM Mixed
END:VEVENT
BEGIN:VEVENT
DTSTART;TZID=Europe/Vienna:20260308T100000
DTEND;TZID=Europe/Vienna:20260308T100000
DTSTAMP:20260421T124803
CREATED:20250824T092333Z
LAST-MODIFIED:20250824T095703Z
UID:10002413-1772964000-1772964000@bowling-wien.at
SUMMARY:Team - WLD
DESCRIPTION:5. Runde
URL:https://bowling-wien.at/events/kategorie/allgemeine-klasse/team-4er-5er/
LOCATION:Plus Bowling Center\, Beheimgasse 5-7\, Wien\, Wien\, 1170\, Österreich
CATEGORIES:Team (4er/5er)
ORGANIZER;CN="Landesverband Wien Bowling":MAILTO:sekretariat@bowling-wien.at
END:VEVENT
BEGIN:VEVENT
DTSTART;TZID=Europe/Vienna:20260308T100000
DTEND;TZID=Europe/Vienna:20260308T100000
DTSTAMP:20260421T124803
CREATED:20250824T092342Z
LAST-MODIFIED:20250824T095702Z
UID:10002414-1772964000-1772964000@bowling-wien.at
SUMMARY:Team - WLH
DESCRIPTION:5. Runde
URL:https://bowling-wien.at/events/kategorie/allgemeine-klasse/team-4er-5er/
LOCATION:Sportcenter Cumberland\, Cumberlandstraße 102\, Wien\, Wien\, 1140\, Österreich
CATEGORIES:Team (4er/5er)
ORGANIZER;CN="Landesverband Wien Bowling":MAILTO:sekretariat@bowling-wien.at
END:VEVENT
BEGIN:VEVENT
DTSTART;TZID=Europe/Vienna:20260308T100000
DTEND;TZID=Europe/Vienna:20260308T100000
DTSTAMP:20260421T124803
CREATED:20250824T092343Z
LAST-MODIFIED:20250824T095702Z
UID:10002415-1772964000-1772964000@bowling-wien.at
SUMMARY:Team - H2LL
DESCRIPTION:5. Runde
URL:https://bowling-wien.at/events/kategorie/allgemeine-klasse/team-4er-5er/
LOCATION:Plus Bowling Center\, Beheimgasse 5-7\, Wien\, Wien\, 1170\, Österreich
CATEGORIES:Team (4er/5er)
ORGANIZER;CN="Landesverband Wien Bowling":MAILTO:sekretariat@bowling-wien.at
END:VEVENT
BEGIN:VEVENT
DTSTART;TZID=Europe/Vienna:20260309T183000
DTEND;TZID=Europe/Vienna:20260309T183000
DTSTAMP:20260421T124803
CREATED:20250824T091747Z
LAST-MODIFIED:20250824T095702Z
UID:10002383-1773081000-1773081000@bowling-wien.at
SUMMARY:Team - DA1
DESCRIPTION:9. Runde – BC Future-BTA setzt aus.
URL:https://bowling-wien.at/events/kategorie/allgemeine-klasse/team-4er-5er/
LOCATION:Sportcenter Cumberland\, Cumberlandstraße 102\, Wien\, Wien\, 1140\, Österreich
CATEGORIES:Team (4er/5er)
ORGANIZER;CN="Landesverband Wien Bowling":MAILTO:sekretariat@bowling-wien.at
END:VEVENT
BEGIN:VEVENT
DTSTART;TZID=Europe/Vienna:20260309T183000
DTEND;TZID=Europe/Vienna:20260309T183000
DTSTAMP:20260421T124803
CREATED:20250824T091915Z
LAST-MODIFIED:20250824T095702Z
UID:10002384-1773081000-1773081000@bowling-wien.at
SUMMARY:Team - H1
DESCRIPTION:9. Runde
URL:https://bowling-wien.at/events/kategorie/allgemeine-klasse/team-4er-5er/
LOCATION:Plus Bowling Center\, Beheimgasse 5-7\, Wien\, Wien\, 1170\, Österreich
CATEGORIES:Team (4er/5er)
ORGANIZER;CN="Landesverband Wien Bowling":MAILTO:sekretariat@bowling-wien.at
END:VEVENT
BEGIN:VEVENT
DTSTART;TZID=Europe/Vienna:20260309T183000
DTEND;TZID=Europe/Vienna:20260309T183000
DTSTAMP:20260421T124803
CREATED:20250824T091915Z
LAST-MODIFIED:20250824T095702Z
UID:10002385-1773081000-1773081000@bowling-wien.at
SUMMARY:Team - H2
DESCRIPTION:9. Runde – BC Pegasus-Kobra 2 setzt aus.
URL:https://bowling-wien.at/events/kategorie/allgemeine-klasse/team-4er-5er/
LOCATION:Sportcenter Cumberland\, Cumberlandstraße 102\, Wien\, Wien\, 1140\, Österreich
CATEGORIES:Team (4er/5er)
ORGANIZER;CN="Landesverband Wien Bowling":MAILTO:sekretariat@bowling-wien.at
END:VEVENT
BEGIN:VEVENT
DTSTART;TZID=Europe/Vienna:20260311T183000
DTEND;TZID=Europe/Vienna:20260311T193000
DTSTAMP:20260421T124803
CREATED:20250824T142338Z
LAST-MODIFIED:20250824T143306Z
UID:10002716-1773253800-1773257400@bowling-wien.at
SUMMARY:Sekretariat
DESCRIPTION:
URL:https://bowling-wien.at/events/kategorie/sekretariat/
CATEGORIES:Sekretariat
END:VEVENT
BEGIN:VEVENT
DTSTART;VALUE=DATE:20260314
DTEND;VALUE=DATE:20260315
DTSTAMP:20260421T124803
CREATED:20250824T092713Z
LAST-MODIFIED:20250824T104410Z
UID:10002470-1773446400-1773532799@bowling-wien.at
SUMMARY:ÖM Mixed
DESCRIPTION:Semifinale
URL:https://bowling-wien.at/events/kategorie/oeskb/
CATEGORIES:ÖSKB,Qualifikation für ÖM Mixed
END:VEVENT
BEGIN:VEVENT
DTSTART;VALUE=DATE:20260315
DTEND;VALUE=DATE:20260316
DTSTAMP:20260421T124803
CREATED:20250824T092713Z
LAST-MODIFIED:20250824T104417Z
UID:10002471-1773532800-1773619199@bowling-wien.at
SUMMARY:ÖM Mixed
DESCRIPTION:Finale
URL:https://bowling-wien.at/events/kategorie/oeskb/
CATEGORIES:ÖSKB,Qualifikation für ÖM Mixed
END:VEVENT
BEGIN:VEVENT
DTSTART;VALUE=DATE:20260316
DTEND;VALUE=DATE:20260317
DTSTAMP:20260421T124803
CREATED:20250824T093027Z
LAST-MODIFIED:20250824T111346Z
UID:10002490-1773619200-1773705599@bowling-wien.at
SUMMARY:WrM Senioren Einzel Runde 1
DESCRIPTION:1. Runde
URL:https://bowling-wien.at/events/kategorie/senioren/
LOCATION:Sportcenter Cumberland\, Cumberlandstraße 102\, Wien\, Wien\, 1140\, Österreich
CATEGORIES:Senioren,WrM Einzel (Senioren)
ORGANIZER;CN="Landesverband Wien Bowling":MAILTO:sekretariat@bowling-wien.at
END:VEVENT
BEGIN:VEVENT
DTSTART;VALUE=DATE:20260316
DTEND;VALUE=DATE:20260317
DTSTAMP:20260421T124803
CREATED:20250824T093027Z
LAST-MODIFIED:20250824T111401Z
UID:10002489-1773619200-1773705599@bowling-wien.at
SUMMARY:WrM Senioren Einzel Runde 1
DESCRIPTION:1. Runde
URL:https://bowling-wien.at/events/kategorie/senioren/
LOCATION:Plus Bowling Center\, Beheimgasse 5-7\, Wien\, Wien\, 1170\, Österreich
CATEGORIES:Senioren,WrM Einzel (Senioren)
ORGANIZER;CN="Landesverband Wien Bowling":MAILTO:sekretariat@bowling-wien.at
END:VEVENT
BEGIN:VEVENT
DTSTART;TZID=Europe/Vienna:20260316T170000
DTEND;TZID=Europe/Vienna:20260316T170000
DTSTAMP:20260421T124803
CREATED:20250824T093114Z
LAST-MODIFIED:20250824T111415Z
UID:10002496-1773680400-1773680400@bowling-wien.at
SUMMARY:WrM Senioren Doppel Runde 1
DESCRIPTION:1. Runde
URL:https://bowling-wien.at/events/kategorie/senioren/
LOCATION:Plus Bowling Center\, Beheimgasse 5-7\, Wien\, Wien\, 1170\, Österreich
CATEGORIES:Senioren,WrM Doppel (Senioren)
ORGANIZER;CN="Landesverband Wien Bowling":MAILTO:sekretariat@bowling-wien.at
END:VEVENT
BEGIN:VEVENT
DTSTART;TZID=Europe/Vienna:20260316T170000
DTEND;TZID=Europe/Vienna:20260316T170000
DTSTAMP:20260421T124803
CREATED:20250824T093115Z
LAST-MODIFIED:20250824T111428Z
UID:10002497-1773680400-1773680400@bowling-wien.at
SUMMARY:WrM Senioren Doppel Runde 1
DESCRIPTION:1. Runde
URL:https://bowling-wien.at/events/kategorie/senioren/
LOCATION:Sportcenter Cumberland\, Cumberlandstraße 102\, Wien\, Wien\, 1140\, Österreich
CATEGORIES:Senioren,WrM Doppel (Senioren)
ORGANIZER;CN="Landesverband Wien Bowling":MAILTO:sekretariat@bowling-wien.at
END:VEVENT
BEGIN:VEVENT
DTSTART;TZID=Europe/Vienna:20260321T090000
DTEND;TZID=Europe/Vienna:20260321T090000
DTSTAMP:20260421T124803
CREATED:20250824T091332Z
LAST-MODIFIED:20250824T095702Z
UID:10002335-1774083600-1774083600@bowling-wien.at
SUMMARY:Quali für ÖM
DESCRIPTION:7. Runde
URL:https://bowling-wien.at/events/kategorie/allgemeine-klasse/mixed-trio-3er/
LOCATION:Plus Bowling Center\, Beheimgasse 5-7\, Wien\, Wien\, 1170\, Österreich
CATEGORIES:Mixed-Trio (3er)
ORGANIZER;CN="Landesverband Wien Bowling":MAILTO:sekretariat@bowling-wien.at
END:VEVENT
BEGIN:VEVENT
DTSTART;TZID=Europe/Vienna:20260322T100000
DTEND;TZID=Europe/Vienna:20260322T100000
DTSTAMP:20260421T124803
CREATED:20250824T091416Z
LAST-MODIFIED:20250824T095701Z
UID:10002355-1774173600-1774173600@bowling-wien.at
SUMMARY:Trio - WLD
DESCRIPTION:7. Runde
URL:https://bowling-wien.at/events/kategorie/allgemeine-klasse/trio-3er/
LOCATION:Plus Bowling Center\, Beheimgasse 5-7\, Wien\, Wien\, 1170\, Österreich
CATEGORIES:Trio (3er)
ORGANIZER;CN="Landesverband Wien Bowling":MAILTO:sekretariat@bowling-wien.at
END:VEVENT
BEGIN:VEVENT
DTSTART;TZID=Europe/Vienna:20260322T100000
DTEND;TZID=Europe/Vienna:20260322T100000
DTSTAMP:20260421T124803
CREATED:20250824T091417Z
LAST-MODIFIED:20250824T095701Z
UID:10002356-1774173600-1774173600@bowling-wien.at
SUMMARY:Trio - WLH
DESCRIPTION:7. Runde
URL:https://bowling-wien.at/events/kategorie/allgemeine-klasse/trio-3er/
LOCATION:Plus Bowling Center\, Beheimgasse 5-7\, Wien\, Wien\, 1170\, Österreich
CATEGORIES:Trio (3er)
ORGANIZER;CN="Landesverband Wien Bowling":MAILTO:sekretariat@bowling-wien.at
END:VEVENT
BEGIN:VEVENT
DTSTART;TZID=Europe/Vienna:20260322T100000
DTEND;TZID=Europe/Vienna:20260322T100000
DTSTAMP:20260421T124803
CREATED:20250824T091417Z
LAST-MODIFIED:20250824T095701Z
UID:10002357-1774173600-1774173600@bowling-wien.at
SUMMARY:Trio - H2LL
DESCRIPTION:7. Runde
URL:https://bowling-wien.at/events/kategorie/allgemeine-klasse/trio-3er/
LOCATION:Plus Bowling Center\, Beheimgasse 5-7\, Wien\, Wien\, 1170\, Österreich
CATEGORIES:Trio (3er)
ORGANIZER;CN="Landesverband Wien Bowling":MAILTO:sekretariat@bowling-wien.at
END:VEVENT
BEGIN:VEVENT
DTSTART;TZID=Europe/Vienna:20260323T183000
DTEND;TZID=Europe/Vienna:20260323T183000
DTSTAMP:20260421T124803
CREATED:20250824T091915Z
LAST-MODIFIED:20250824T095701Z
UID:10002386-1774290600-1774290600@bowling-wien.at
SUMMARY:Team - DA1
DESCRIPTION:10. Runde
URL:https://bowling-wien.at/events/kategorie/allgemeine-klasse/team-4er-5er/
LOCATION:Plus Bowling Center\, Beheimgasse 5-7\, Wien\, Wien\, 1170\, Österreich
CATEGORIES:Team (4er/5er)
ORGANIZER;CN="Landesverband Wien Bowling":MAILTO:sekretariat@bowling-wien.at
END:VEVENT
BEGIN:VEVENT
DTSTART;TZID=Europe/Vienna:20260323T183000
DTEND;TZID=Europe/Vienna:20260323T183000
DTSTAMP:20260421T124803
CREATED:20250824T091915Z
LAST-MODIFIED:20250824T095701Z
UID:10002387-1774290600-1774290600@bowling-wien.at
SUMMARY:Team - H1
DESCRIPTION:10. Runde
URL:https://bowling-wien.at/events/kategorie/allgemeine-klasse/team-4er-5er/
LOCATION:Sportcenter Cumberland\, Cumberlandstraße 102\, Wien\, Wien\, 1140\, Österreich
CATEGORIES:Team (4er/5er)
ORGANIZER;CN="Landesverband Wien Bowling":MAILTO:sekretariat@bowling-wien.at
END:VEVENT
BEGIN:VEVENT
DTSTART;TZID=Europe/Vienna:20260323T183000
DTEND;TZID=Europe/Vienna:20260323T183000
DTSTAMP:20260421T124803
CREATED:20250824T091916Z
LAST-MODIFIED:20250824T095701Z
UID:10002388-1774290600-1774290600@bowling-wien.at
SUMMARY:Team - H2
DESCRIPTION:10. Runde
URL:https://bowling-wien.at/events/kategorie/allgemeine-klasse/team-4er-5er/
LOCATION:Plus Bowling Center\, Beheimgasse 5-7\, Wien\, Wien\, 1170\, Österreich
CATEGORIES:Team (4er/5er)
ORGANIZER;CN="Landesverband Wien Bowling":MAILTO:sekretariat@bowling-wien.at
END:VEVENT
BEGIN:VEVENT
DTSTART;TZID=Europe/Vienna:20260325T183000
DTEND;TZID=Europe/Vienna:20260325T193000
DTSTAMP:20260421T124803
CREATED:20250824T142338Z
LAST-MODIFIED:20250824T143306Z
UID:10002717-1774463400-1774467000@bowling-wien.at
SUMMARY:Sekretariat
DESCRIPTION:
URL:https://bowling-wien.at/events/kategorie/sekretariat/
CATEGORIES:Sekretariat
END:VEVENT
END:VCALENDAR